BEGIN:VCALENDAR
VERSION:2.0
PRODID:-//Sammons Center for the Arts - ECPv6.15.20//NONSGML v1.0//EN
CALSCALE:GREGORIAN
METHOD:PUBLISH
X-ORIGINAL-URL:https://sammonsartcenter.org
X-WR-CALDESC:Events for Sammons Center for the Arts
REFRESH-INTERVAL;VALUE=DURATION:PT1H
X-Robots-Tag:noindex
X-PUBLISHED-TTL:PT1H
BEGIN:VTIMEZONE
TZID:America/New_York
BEGIN:DAYLIGHT
TZOFFSETFROM:-0500
TZOFFSETTO:-0400
TZNAME:EDT
DTSTART:20230312T070000
END:DAYLIGHT
BEGIN:STANDARD
TZOFFSETFROM:-0400
TZOFFSETTO:-0500
TZNAME:EST
DTSTART:20231105T060000
END:STANDARD
BEGIN:DAYLIGHT
TZOFFSETFROM:-0500
TZOFFSETTO:-0400
TZNAME:EDT
DTSTART:20240310T070000
END:DAYLIGHT
BEGIN:STANDARD
TZOFFSETFROM:-0400
TZOFFSETTO:-0500
TZNAME:EST
DTSTART:20241103T060000
END:STANDARD
BEGIN:DAYLIGHT
TZOFFSETFROM:-0500
TZOFFSETTO:-0400
TZNAME:EDT
DTSTART:20250309T070000
END:DAYLIGHT
BEGIN:STANDARD
TZOFFSETFROM:-0400
TZOFFSETTO:-0500
TZNAME:EST
DTSTART:20251102T060000
END:STANDARD
END:VTIMEZONE
BEGIN:VEVENT
DTSTART;TZID=America/New_York:20241026T200000
DTEND;TZID=America/New_York:20241026T200000
DTSTAMP:20260419T083900
CREATED:20240911T223224Z
LAST-MODIFIED:20240911T223224Z
UID:10000329-1729972800-1729972800@sammonsartcenter.org
SUMMARY:Flies
DESCRIPTION:She did not really expect to meet any beast. Bombshell Dance Project takes on Lord of the Flies in an all female adaptation of the classic story. Written by Julia Lederer and developed in Bombshell’s signature immersive style\, Flies will draw you deep into another world where you’ll make life and death decisions alongside the women of the island. \nAbout Bombshell Dance Project \nBombshell Dance Project is a dance theatre company based in Dallas\, Texas. The company creates innovative\, audience driven experiences with a goal of sparking community conversations and bringing audiences closer to dance. \nAbout Julia Lederer \nAn internationally-acclaimed writer\, Julia’s plays have been produced across North America and in Europe\, and her films have been selections at major festivals\, including TIFF\, Palm Springs\, and SXSW. \nJulia’s work is driven by a deep curiosity about the world and how weird it is to be a human here. She has also published poetry and essays\, written for podcasts\, and is an award-winning copywriter. Currently her first feature\, WITH LOVE AND A MAJOR ORGAN\, is screening at festivals around the world\, after its premiere at SXSW.
URL:https://sammonsartcenter.org/event/flies/2024-10-26/2/
LOCATION:Wyly Studio Theatre\, 2400 Flora Street\, Dallas\, TX\, 75201\, United States
CATEGORIES:Dance,Other Events,Partner Events,Theater
ATTACH;FMTTYPE=image/png:https://sammonsartcenter.org/wp-content/uploads/2024/03/bombshell-dance-project-logo.png
ORGANIZER;CN="Bombshell Dance Project":MAILTO:bombshelldanceproject@gmail.com
END:VEVENT
BEGIN:VEVENT
DTSTART;TZID=America/New_York:20241026T140000
DTEND;TZID=America/New_York:20241026T140000
DTSTAMP:20260419T083900
CREATED:20240911T223224Z
LAST-MODIFIED:20240911T223224Z
UID:10000328-1729951200-1729951200@sammonsartcenter.org
SUMMARY:Flies
DESCRIPTION:She did not really expect to meet any beast. Bombshell Dance Project takes on Lord of the Flies in an all female adaptation of the classic story. Written by Julia Lederer and developed in Bombshell’s signature immersive style\, Flies will draw you deep into another world where you’ll make life and death decisions alongside the women of the island. \nAbout Bombshell Dance Project \nBombshell Dance Project is a dance theatre company based in Dallas\, Texas. The company creates innovative\, audience driven experiences with a goal of sparking community conversations and bringing audiences closer to dance. \nAbout Julia Lederer \nAn internationally-acclaimed writer\, Julia’s plays have been produced across North America and in Europe\, and her films have been selections at major festivals\, including TIFF\, Palm Springs\, and SXSW. \nJulia’s work is driven by a deep curiosity about the world and how weird it is to be a human here. She has also published poetry and essays\, written for podcasts\, and is an award-winning copywriter. Currently her first feature\, WITH LOVE AND A MAJOR ORGAN\, is screening at festivals around the world\, after its premiere at SXSW.
URL:https://sammonsartcenter.org/event/flies/2024-10-26/1/
LOCATION:Wyly Studio Theatre\, 2400 Flora Street\, Dallas\, TX\, 75201\, United States
CATEGORIES:Dance,Other Events,Partner Events,Theater
ATTACH;FMTTYPE=image/png:https://sammonsartcenter.org/wp-content/uploads/2024/03/bombshell-dance-project-logo.png
ORGANIZER;CN="Bombshell Dance Project":MAILTO:bombshelldanceproject@gmail.com
END:VEVENT
BEGIN:VEVENT
DTSTART;TZID=America/New_York:20241025T200000
DTEND;TZID=America/New_York:20241025T200000
DTSTAMP:20260419T083900
CREATED:20240911T223224Z
LAST-MODIFIED:20240911T223224Z
UID:10000327-1729886400-1729886400@sammonsartcenter.org
SUMMARY:Flies
DESCRIPTION:She did not really expect to meet any beast. Bombshell Dance Project takes on Lord of the Flies in an all female adaptation of the classic story. Written by Julia Lederer and developed in Bombshell’s signature immersive style\, Flies will draw you deep into another world where you’ll make life and death decisions alongside the women of the island. \nAbout Bombshell Dance Project \nBombshell Dance Project is a dance theatre company based in Dallas\, Texas. The company creates innovative\, audience driven experiences with a goal of sparking community conversations and bringing audiences closer to dance. \nAbout Julia Lederer \nAn internationally-acclaimed writer\, Julia’s plays have been produced across North America and in Europe\, and her films have been selections at major festivals\, including TIFF\, Palm Springs\, and SXSW. \nJulia’s work is driven by a deep curiosity about the world and how weird it is to be a human here. She has also published poetry and essays\, written for podcasts\, and is an award-winning copywriter. Currently her first feature\, WITH LOVE AND A MAJOR ORGAN\, is screening at festivals around the world\, after its premiere at SXSW.
URL:https://sammonsartcenter.org/event/flies/2024-10-25/
LOCATION:Wyly Studio Theatre\, 2400 Flora Street\, Dallas\, TX\, 75201\, United States
CATEGORIES:Dance,Other Events,Partner Events,Theater
ATTACH;FMTTYPE=image/png:https://sammonsartcenter.org/wp-content/uploads/2024/03/bombshell-dance-project-logo.png
ORGANIZER;CN="Bombshell Dance Project":MAILTO:bombshelldanceproject@gmail.com
END:VEVENT
BEGIN:VEVENT
DTSTART;TZID=America/New_York:20240727T170000
DTEND;TZID=America/New_York:20240727T190000
DTSTAMP:20260419T083900
CREATED:20240619T230823Z
LAST-MODIFIED:20240619T230823Z
UID:10000227-1722099600-1722106800@sammonsartcenter.org
SUMMARY:Creation Lab Open Performance
DESCRIPTION:Bombshell Dance Project partners with the Dallas Contemporary to present the first installment of the Dallas Creation Lab. Curated by Bombshell’s Emily Bernet and Taylor Rodman\, the project will include a week of creative process in the Dallas Contemporary’s empty gallery\, ending with a one-night-only performance experience. Step into the creative process of seven Dallas artists for an up close look at their latest explorations as they build one collaborative work\, and stick around after the performance for a discussion with the artists followed by light sips and bites. Come for the performance\, stay for the party!
URL:https://sammonsartcenter.org/event/creation-lab-open-performance/
LOCATION:The Dallas Contemporary\, 161 Glass St\, Dallas\, TX\, 75207\, United States
CATEGORIES:Dance,Other Events,Partner Events
ATTACH;FMTTYPE=image/png:https://sammonsartcenter.org/wp-content/uploads/2024/03/bombshell-dance-project-logo.png
ORGANIZER;CN="Bombshell Dance Project":MAILTO:bombshelldanceproject@gmail.com
END:VEVENT
BEGIN:VEVENT
DTSTART;TZID=America/New_York:20240420T130000
DTEND;TZID=America/New_York:20240420T140000
DTSTAMP:20260419T083900
CREATED:20240326T192627Z
LAST-MODIFIED:20240326T192627Z
UID:10000134-1713618000-1713621600@sammonsartcenter.org
SUMMARY:The Impressionist Revolution from Monet to Matisse
DESCRIPTION:Immerse yourself in the Impressionist Revolution with Bombshell Dance Project on a movement tour of From Munch to Kirchner: The Heins Collection of Modern and Expressionist Art inspired by the exhibition. \nFree Admission \nMeet on Level 2 outside Blue elevators \nThe Impressionist Revolution from Monet to Matisse explores the fascinating story of Impressionism from its birth in 1874 to its legacy in the early 20th century. Told almost entirely through the DMA’s exceptional holdings\, this exhibition reveals the rebellious origins of the independent artist collective known as the Impressionists and the revolutionary course they charted for modern art. \nBreaking with tradition in both how and what they painted\, as well as how they showed their work\, the Impressionists redefined what constituted cutting-edge contemporary art. The unique innovations of its core members\, such as Claude Monet\, Edgar Degas\, and Berthe Morisot\, set the foundation against which following generations of avant-garde artists reacted\, from Paul Gauguin and Vincent van Gogh to Piet Mondrian and Henri Matisse. \nCelebrating the 150th anniversary of the first Impressionist exhibition\, The Impressionist Revolution invites you to reconsider these now beloved artists as the scandalous renegades they were\, as well as the considerable impact they had on 20th-century art.
URL:https://sammonsartcenter.org/event/the-impressionist-revolution-from-monet-to-matisse/
LOCATION:Dallas Museum of Art\, 1717 N Harwood St\, Dallas\, TX\, 75201\, United States
CATEGORIES:Dance,Other Events,Partner Events
ATTACH;FMTTYPE=image/png:https://sammonsartcenter.org/wp-content/uploads/2024/03/bombshell-dance-project-logo.png
ORGANIZER;CN="Bombshell Dance Project":MAILTO:bombshelldanceproject@gmail.com
END:VEVENT
END:VCALENDAR