BEGIN:VCALENDAR
VERSION:2.0
PRODID:-//Sammons Center for the Arts - ECPv6.15.20//NONSGML v1.0//EN
CALSCALE:GREGORIAN
METHOD:PUBLISH
X-WR-CALNAME:Sammons Center for the Arts
X-ORIGINAL-URL:https://sammonsartcenter.org
X-WR-CALDESC:Events for Sammons Center for the Arts
REFRESH-INTERVAL;VALUE=DURATION:PT1H
X-Robots-Tag:noindex
X-PUBLISHED-TTL:PT1H
BEGIN:VTIMEZONE
TZID:America/New_York
BEGIN:DAYLIGHT
TZOFFSETFROM:-0500
TZOFFSETTO:-0400
TZNAME:EDT
DTSTART:20290311T070000
END:DAYLIGHT
BEGIN:STANDARD
TZOFFSETFROM:-0400
TZOFFSETTO:-0500
TZNAME:EST
DTSTART:20291104T060000
END:STANDARD
BEGIN:DAYLIGHT
TZOFFSETFROM:-0500
TZOFFSETTO:-0400
TZNAME:EDT
DTSTART:20300310T070000
END:DAYLIGHT
BEGIN:STANDARD
TZOFFSETFROM:-0400
TZOFFSETTO:-0500
TZNAME:EST
DTSTART:20301103T060000
END:STANDARD
BEGIN:DAYLIGHT
TZOFFSETFROM:-0500
TZOFFSETTO:-0400
TZNAME:EDT
DTSTART:20310309T070000
END:DAYLIGHT
BEGIN:STANDARD
TZOFFSETFROM:-0400
TZOFFSETTO:-0500
TZNAME:EST
DTSTART:20311102T060000
END:STANDARD
END:VTIMEZONE
BEGIN:VEVENT
DTSTART;TZID=America/New_York:20300907T093000
DTEND;TZID=America/New_York:20300907T123000
DTSTAMP:20260425T115032
CREATED:20250923T173646Z
LAST-MODIFIED:20250925T175705Z
UID:10000710-1915003800-1915014600@sammonsartcenter.org
SUMMARY:African Drum & Dance Class
DESCRIPTION:Class is open to all ages and levels. First timers are always welcome to drop in. Classes are always accompanied by live and energetic African drumming. $15 for adults and $5 for children.
URL:https://sammonsartcenter.org/event/african-drum-dance-class/2030-09-07/
LOCATION:Sammons Center for the Arts\, 3630 Harry Hines Blvd.\, Dallas\, TX\, 75219\, United States
CATEGORIES:Dance
ATTACH;FMTTYPE=image/jpeg:https://sammonsartcenter.org/wp-content/uploads/2025/09/Bandan-Koro-for-website-logo.jpg
ORGANIZER;CN="Bandan Koro":MAILTO:DallasAfricanDance@gmail.com
END:VEVENT
BEGIN:VEVENT
DTSTART;TZID=America/New_York:20300914T093000
DTEND;TZID=America/New_York:20300914T123000
DTSTAMP:20260425T115032
CREATED:20250923T173646Z
LAST-MODIFIED:20250925T175705Z
UID:10000711-1915608600-1915619400@sammonsartcenter.org
SUMMARY:African Drum & Dance Class
DESCRIPTION:Class is open to all ages and levels. First timers are always welcome to drop in. Classes are always accompanied by live and energetic African drumming. $15 for adults and $5 for children.
URL:https://sammonsartcenter.org/event/african-drum-dance-class/2030-09-14/
LOCATION:Sammons Center for the Arts\, 3630 Harry Hines Blvd.\, Dallas\, TX\, 75219\, United States
CATEGORIES:Dance
ATTACH;FMTTYPE=image/jpeg:https://sammonsartcenter.org/wp-content/uploads/2025/09/Bandan-Koro-for-website-logo.jpg
ORGANIZER;CN="Bandan Koro":MAILTO:DallasAfricanDance@gmail.com
END:VEVENT
BEGIN:VEVENT
DTSTART;TZID=America/New_York:20300921T093000
DTEND;TZID=America/New_York:20300921T123000
DTSTAMP:20260425T115032
CREATED:20250923T173646Z
LAST-MODIFIED:20250925T175705Z
UID:10000712-1916213400-1916224200@sammonsartcenter.org
SUMMARY:African Drum & Dance Class
DESCRIPTION:Class is open to all ages and levels. First timers are always welcome to drop in. Classes are always accompanied by live and energetic African drumming. $15 for adults and $5 for children.
URL:https://sammonsartcenter.org/event/african-drum-dance-class/2030-09-21/
LOCATION:Sammons Center for the Arts\, 3630 Harry Hines Blvd.\, Dallas\, TX\, 75219\, United States
CATEGORIES:Dance
ATTACH;FMTTYPE=image/jpeg:https://sammonsartcenter.org/wp-content/uploads/2025/09/Bandan-Koro-for-website-logo.jpg
ORGANIZER;CN="Bandan Koro":MAILTO:DallasAfricanDance@gmail.com
END:VEVENT
END:VCALENDAR