BEGIN:VCALENDAR
VERSION:2.0
PRODID:-//Sammons Center for the Arts - ECPv6.15.20//NONSGML v1.0//EN
CALSCALE:GREGORIAN
METHOD:PUBLISH
X-WR-CALNAME:Sammons Center for the Arts
X-ORIGINAL-URL:https://sammonsartcenter.org
X-WR-CALDESC:Events for Sammons Center for the Arts
REFRESH-INTERVAL;VALUE=DURATION:PT1H
X-Robots-Tag:noindex
X-PUBLISHED-TTL:PT1H
BEGIN:VTIMEZONE
TZID:America/New_York
BEGIN:DAYLIGHT
TZOFFSETFROM:-0500
TZOFFSETTO:-0400
TZNAME:EDT
DTSTART:20250309T070000
END:DAYLIGHT
BEGIN:STANDARD
TZOFFSETFROM:-0400
TZOFFSETTO:-0500
TZNAME:EST
DTSTART:20251102T060000
END:STANDARD
BEGIN:DAYLIGHT
TZOFFSETFROM:-0500
TZOFFSETTO:-0400
TZNAME:EDT
DTSTART:20260308T070000
END:DAYLIGHT
BEGIN:STANDARD
TZOFFSETFROM:-0400
TZOFFSETTO:-0500
TZNAME:EST
DTSTART:20261101T060000
END:STANDARD
BEGIN:DAYLIGHT
TZOFFSETFROM:-0500
TZOFFSETTO:-0400
TZNAME:EDT
DTSTART:20270314T070000
END:DAYLIGHT
BEGIN:STANDARD
TZOFFSETFROM:-0400
TZOFFSETTO:-0500
TZNAME:EST
DTSTART:20271107T060000
END:STANDARD
END:VTIMEZONE
BEGIN:VEVENT
DTSTART;TZID=America/New_York:20260319T193000
DTEND;TZID=America/New_York:20260319T193000
DTSTAMP:20260422T081008
CREATED:20251224T174228Z
LAST-MODIFIED:20260108T165850Z
UID:10000758-1773948600-1773948600@sammonsartcenter.org
SUMMARY:Sammons Cabaret: Peggy Lohr
DESCRIPTION:Peggy Lohr brings her radiant voice and Hollywood sparkle back to the Sammons Cabaret stage to enchant our audience again. With a an impressive vocal career spanning TV and film\, theater\, and top clubs from Dallas to Los Angeles\, Peggy continues to charm audiences with her beloved storytelling and signature style. \n  \nThis concert begins at 7:30 p.m. in Kurth Hall. Check-in opens at 6:00 p.m. on the fourth floor with pre-concert reception on the 2nd floor. Doors open at 7:00 p.m. Tickets are $50 per person or $45 for Sammons members. Admission includes valet parking\, light bites\, and beverages. All artists and programs subject to change. \nMember ticket sales are now open; public ticket sales open on Wednesday\, January 14\, 2026. \nFor questions call (214) 520-7788. \n\nPurchase Tickets \nBecome a Member
URL:https://sammonsartcenter.org/event/peggy-lohr/
LOCATION:Sammons Center for the Arts\, 3630 Harry Hines Blvd.\, Dallas\, TX\, 75219\, United States
CATEGORIES:Sammons Cabaret,Sammons Center Events
ATTACH;FMTTYPE=image/jpeg:https://sammonsartcenter.org/wp-content/uploads/2025/12/2-Peggy-Lohr.jpg
END:VEVENT
BEGIN:VEVENT
DTSTART;TZID=America/New_York:20260321T093000
DTEND;TZID=America/New_York:20260321T123000
DTSTAMP:20260422T081008
CREATED:20250923T173646Z
LAST-MODIFIED:20250925T175705Z
UID:10000477-1774085400-1774096200@sammonsartcenter.org
SUMMARY:African Drum & Dance Class
DESCRIPTION:Class is open to all ages and levels. First timers are always welcome to drop in. Classes are always accompanied by live and energetic African drumming. $15 for adults and $5 for children.
URL:https://sammonsartcenter.org/event/african-drum-dance-class/2026-03-21/
LOCATION:Sammons Center for the Arts\, 3630 Harry Hines Blvd.\, Dallas\, TX\, 75219\, United States
CATEGORIES:Dance
ATTACH;FMTTYPE=image/jpeg:https://sammonsartcenter.org/wp-content/uploads/2025/09/Bandan-Koro-for-website-logo.jpg
ORGANIZER;CN="Bandan Koro":MAILTO:DallasAfricanDance@gmail.com
END:VEVENT
END:VCALENDAR