BEGIN:VCALENDAR
VERSION:2.0
PRODID:-//Sammons Center for the Arts - ECPv6.15.20//NONSGML v1.0//EN
CALSCALE:GREGORIAN
METHOD:PUBLISH
X-WR-CALNAME:Sammons Center for the Arts
X-ORIGINAL-URL:https://sammonsartcenter.org
X-WR-CALDESC:Events for Sammons Center for the Arts
REFRESH-INTERVAL;VALUE=DURATION:PT1H
X-Robots-Tag:noindex
X-PUBLISHED-TTL:PT1H
BEGIN:VTIMEZONE
TZID:America/New_York
BEGIN:DAYLIGHT
TZOFFSETFROM:-0500
TZOFFSETTO:-0400
TZNAME:EDT
DTSTART:20230312T070000
END:DAYLIGHT
BEGIN:STANDARD
TZOFFSETFROM:-0400
TZOFFSETTO:-0500
TZNAME:EST
DTSTART:20231105T060000
END:STANDARD
BEGIN:DAYLIGHT
TZOFFSETFROM:-0500
TZOFFSETTO:-0400
TZNAME:EDT
DTSTART:20240310T070000
END:DAYLIGHT
BEGIN:STANDARD
TZOFFSETFROM:-0400
TZOFFSETTO:-0500
TZNAME:EST
DTSTART:20241103T060000
END:STANDARD
BEGIN:DAYLIGHT
TZOFFSETFROM:-0500
TZOFFSETTO:-0400
TZNAME:EDT
DTSTART:20250309T070000
END:DAYLIGHT
BEGIN:STANDARD
TZOFFSETFROM:-0400
TZOFFSETTO:-0500
TZNAME:EST
DTSTART:20251102T060000
END:STANDARD
END:VTIMEZONE
BEGIN:VEVENT
DTSTART;TZID=America/New_York:20240413T160000
DTEND;TZID=America/New_York:20240413T203000
DTSTAMP:20260424T164658
CREATED:20240326T183358Z
LAST-MODIFIED:20240326T183358Z
UID:10000129-1713024000-1713040200@sammonsartcenter.org
SUMMARY:Cocina Flamenca LIVE\, LA FERIA de Sevilla
DESCRIPTION:FREE outdoor event: \nFlamenco Performances with visiting guests & local artists \nFamily Activities \nFlamenco Dance Lessons \nSpanish Cuisine Tastings \nPaella & Tapas dishes made and sold on-site \nVisit TheFlameFoundation.org for more information
URL:https://sammonsartcenter.org/event/cocina-flamenca-live-la-feria-de-sevilla/
LOCATION:Latino Cultural Center\, 2600 Live Oak St.\, Dallas\, TX\, 75204\, United States
CATEGORIES:Dance,Other Events,Partner Events
ATTACH;FMTTYPE=image/png:https://sammonsartcenter.org/wp-content/uploads/2024/03/The-Flame-Foundation.png
END:VEVENT
END:VCALENDAR