BEGIN:VCALENDAR
VERSION:2.0
PRODID:-//Sammons Center for the Arts - ECPv6.15.20//NONSGML v1.0//EN
CALSCALE:GREGORIAN
METHOD:PUBLISH
X-WR-CALNAME:Sammons Center for the Arts
X-ORIGINAL-URL:https://sammonsartcenter.org
X-WR-CALDESC:Events for Sammons Center for the Arts
REFRESH-INTERVAL;VALUE=DURATION:PT1H
X-Robots-Tag:noindex
X-PUBLISHED-TTL:PT1H
BEGIN:VTIMEZONE
TZID:America/New_York
BEGIN:DAYLIGHT
TZOFFSETFROM:-0500
TZOFFSETTO:-0400
TZNAME:EDT
DTSTART:20230312T070000
END:DAYLIGHT
BEGIN:STANDARD
TZOFFSETFROM:-0400
TZOFFSETTO:-0500
TZNAME:EST
DTSTART:20231105T060000
END:STANDARD
BEGIN:DAYLIGHT
TZOFFSETFROM:-0500
TZOFFSETTO:-0400
TZNAME:EDT
DTSTART:20240310T070000
END:DAYLIGHT
BEGIN:STANDARD
TZOFFSETFROM:-0400
TZOFFSETTO:-0500
TZNAME:EST
DTSTART:20241103T060000
END:STANDARD
BEGIN:DAYLIGHT
TZOFFSETFROM:-0500
TZOFFSETTO:-0400
TZNAME:EDT
DTSTART:20250309T070000
END:DAYLIGHT
BEGIN:STANDARD
TZOFFSETFROM:-0400
TZOFFSETTO:-0500
TZNAME:EST
DTSTART:20251102T060000
END:STANDARD
END:VTIMEZONE
BEGIN:VEVENT
DTSTART;TZID=America/New_York:20241018T193000
DTEND;TZID=America/New_York:20241018T193000
DTSTAMP:20260421T095402
CREATED:20240911T220536Z
LAST-MODIFIED:20240911T220536Z
UID:10000323-1729279800-1729279800@sammonsartcenter.org
SUMMARY:Musicians Preview Showcase ~ Texas Flamenco Festival
DESCRIPTION:This special night will feature the musicians of the Texas Flamenco Festival and the dancers of the Fall Flamenco Residency. Don’t miss Cameo appearances by Invited guests. \nAn all star cast of dancers and musicians will take the stage in an intimate setting that suits the art from so well.  Up close and personal is the best way to see the intricacies of flamenco foot work and guitar. The stunning prowess of these world class artists will leave you breathless. DO NOT miss some of Spain’s greatest right here in DFW!!!
URL:https://sammonsartcenter.org/event/musicians-preview-showcase-texas-flamenco-festival/
LOCATION:La Cantera Arts Conservatory\, 1050 N Westmoreland Rd #328\, Dallas\, TX\, 75211\, United States
CATEGORIES:Dance,Other Events,Partner Events
ATTACH;FMTTYPE=image/jpeg:https://sammonsartcenter.org/wp-content/uploads/2024/09/FlamencpFeverLogoonline.jpg
END:VEVENT
BEGIN:VEVENT
DTSTART;TZID=America/New_York:20241019T193000
DTEND;TZID=America/New_York:20241019T193000
DTSTAMP:20260421T095402
CREATED:20240911T222408Z
LAST-MODIFIED:20240911T222408Z
UID:10000325-1729366200-1729366200@sammonsartcenter.org
SUMMARY:Grande Finale ~ Texas Flamenco Festival
DESCRIPTION:The raw power and enigmatic style of the famed Farruco Family descends on Dallas in the Grand Opening of “La Cantera Arts Conservatory” in a night of Authentic Flamenco.  7 artists direct from Spain will take the audience on a journey through a wide range of emotions\, from the elegant and joyous “Alegrias” to  “Siguiriyias” the dance of death. \nAn all star cast of dancers and musicians will take the stage in an intimate setting that suits the art from so well.  Up close and personal is the best way to see the intricacies of flamenco foot work and guitar. The stunning prowess of these world class artists will leave you breathless. Do no miss some of Spain’s greatest right here in DFW!!!
URL:https://sammonsartcenter.org/event/grande-finale-texas-flamenco-festival/
LOCATION:La Cantera Arts Conservatory\, 1050 N Westmoreland Rd #328\, Dallas\, TX\, 75211\, United States
CATEGORIES:Dance,Other Events,Partner Events
ATTACH;FMTTYPE=image/jpeg:https://sammonsartcenter.org/wp-content/uploads/2024/09/FlamencpFeverLogoonline.jpg
END:VEVENT
END:VCALENDAR