BEGIN:VCALENDAR
VERSION:2.0
PRODID:-//Sammons Center for the Arts - ECPv6.15.20//NONSGML v1.0//EN
CALSCALE:GREGORIAN
METHOD:PUBLISH
X-WR-CALNAME:Sammons Center for the Arts
X-ORIGINAL-URL:https://sammonsartcenter.org
X-WR-CALDESC:Events for Sammons Center for the Arts
REFRESH-INTERVAL;VALUE=DURATION:PT1H
X-Robots-Tag:noindex
X-PUBLISHED-TTL:PT1H
BEGIN:VTIMEZONE
TZID:America/New_York
BEGIN:DAYLIGHT
TZOFFSETFROM:-0500
TZOFFSETTO:-0400
TZNAME:EDT
DTSTART:20230312T070000
END:DAYLIGHT
BEGIN:STANDARD
TZOFFSETFROM:-0400
TZOFFSETTO:-0500
TZNAME:EST
DTSTART:20231105T060000
END:STANDARD
BEGIN:DAYLIGHT
TZOFFSETFROM:-0500
TZOFFSETTO:-0400
TZNAME:EDT
DTSTART:20240310T070000
END:DAYLIGHT
BEGIN:STANDARD
TZOFFSETFROM:-0400
TZOFFSETTO:-0500
TZNAME:EST
DTSTART:20241103T060000
END:STANDARD
BEGIN:DAYLIGHT
TZOFFSETFROM:-0500
TZOFFSETTO:-0400
TZNAME:EDT
DTSTART:20250309T070000
END:DAYLIGHT
BEGIN:STANDARD
TZOFFSETFROM:-0400
TZOFFSETTO:-0500
TZNAME:EST
DTSTART:20251102T060000
END:STANDARD
END:VTIMEZONE
BEGIN:VEVENT
DTSTART;TZID=America/New_York:20240302T180000
DTEND;TZID=America/New_York:20240302T180000
DTSTAMP:20260423T054227
CREATED:20240216T223228Z
LAST-MODIFIED:20240216T223228Z
UID:10000079-1709402400-1709402400@sammonsartcenter.org
SUMMARY:Future Stars Gala: Regency Reinvented
DESCRIPTION:Welcome to our 2024 Future Stars Gala: Regency Reinvented. \nWe invite you to join us as we step into a world of elegance and enchantment and raise much needed funds for the Lawrences\, Keats\, and Austins of tomorrow. This unique immersive party will feature drinks\, music\, dancing\, and many unique ways to participate in raising funds to support Junior Players’ free arts education programs\, which serve over 15\,000 children and teenagers annually\, the majority of whom (85%) are low-to-moderate income. Dressing to theme is welcome and encouraged! \nThis year’s gala will take place on Saturday\, March 2\, 2024 at 6:00 pm CST at On The Levee\, 1108 Quaker St\, Dallas\, TX 75207. \nBack by popular demand will be our Wine Pull\, Jewelry Pull\, Best of North Texas Gift Card Pull\, and Silent Auction\, featuring a variety of items from Dallas Mavericks tickets\, a trip to Napa Valley\, Scavenger Hunts by Let’s Roam\, arts experiences (like a full year membership to the Arlington Museum of Art!)\, dinner at Al Biernat’s and Dakota’s Steakhouse\, and much much more!
URL:https://sammonsartcenter.org/event/future-stars-gala-regency-reinvented/
LOCATION:On the Levee\, 1108 Quaker St.\, Dallas\, TX\, 75207\, United States
CATEGORIES:Other Events,Partner Events
ATTACH;FMTTYPE=image/png:https://sammonsartcenter.org/wp-content/uploads/2024/02/Juniorplayers-logo.png
ORGANIZER;CN="Junior Players":MAILTO:events@juniorplayers.org
END:VEVENT
END:VCALENDAR