BEGIN:VCALENDAR
VERSION:2.0
PRODID:-//Sammons Center for the Arts - ECPv6.15.20//NONSGML v1.0//EN
CALSCALE:GREGORIAN
METHOD:PUBLISH
X-WR-CALNAME:Sammons Center for the Arts
X-ORIGINAL-URL:https://sammonsartcenter.org
X-WR-CALDESC:Events for Sammons Center for the Arts
REFRESH-INTERVAL;VALUE=DURATION:PT1H
X-Robots-Tag:noindex
X-PUBLISHED-TTL:PT1H
BEGIN:VTIMEZONE
TZID:America/New_York
BEGIN:DAYLIGHT
TZOFFSETFROM:-0500
TZOFFSETTO:-0400
TZNAME:EDT
DTSTART:20230312T070000
END:DAYLIGHT
BEGIN:STANDARD
TZOFFSETFROM:-0400
TZOFFSETTO:-0500
TZNAME:EST
DTSTART:20231105T060000
END:STANDARD
BEGIN:DAYLIGHT
TZOFFSETFROM:-0500
TZOFFSETTO:-0400
TZNAME:EDT
DTSTART:20240310T070000
END:DAYLIGHT
BEGIN:STANDARD
TZOFFSETFROM:-0400
TZOFFSETTO:-0500
TZNAME:EST
DTSTART:20241103T060000
END:STANDARD
BEGIN:DAYLIGHT
TZOFFSETFROM:-0500
TZOFFSETTO:-0400
TZNAME:EDT
DTSTART:20250309T070000
END:DAYLIGHT
BEGIN:STANDARD
TZOFFSETFROM:-0400
TZOFFSETTO:-0500
TZNAME:EST
DTSTART:20251102T060000
END:STANDARD
END:VTIMEZONE
BEGIN:VEVENT
DTSTART;TZID=America/New_York:20240920T180000
DTEND;TZID=America/New_York:20240920T180000
DTSTAMP:20260425T123104
CREATED:20240909T214754Z
LAST-MODIFIED:20240909T214829Z
UID:10000291-1726855200-1726855200@sammonsartcenter.org
SUMMARY:Paella y Pasion
DESCRIPTION:Paella y Pasion has become a popular part of the organization’s culturally rich Festival. That is one reason Flamenco Fever now plans to move this crowd-pleasing\, family-friendly event to spring\, presenting it as a stand-alone event to expand the organization’s public visibility\, provide additional flamenco-focused performance opportunities\, and build its audience and base of financial support. \nPaella y Pasion is already a proven way to bridge the divide between traditional flamenco performances in formal venues and economically diverse local audiences who customarily have limited or no access to such venues. Producing Paella y Passion each spring will provide another public event for local individuals and groups to perform for their families\, friends\, community members and existing flamenco aficionados as well as raise general public awareness about the art of flamenco and the role of Flamenco Fever in the Metroplex’s cultural landscape. \nAs Paella y Pasion has as part of the fall festival\, a spring event will provide beginning flamenco dancers\, singers and guitarists the relaxed atmosphere and supportive public outdoor environment they require to let their talents shine\, and more experienced students will get to meet and mentor newcomers to the flamenco arts. \nFor $20 per person\, audience members may also purchase a bowl of paella\, which comes with a flower\, a Spanish-themed polka-dot scarf or a fan – which further immerse them in the flamenco experience. Audience members are encouraged to bring a chair or blanket for comfort and to support the participation of families that span multiple generations.
URL:https://sammonsartcenter.org/event/paella-y-pasion/
LOCATION:Bath House Cultural Center\, 521 E. Lawther Dr\, Dallas\, TX\, 75218\, United States
CATEGORIES:Dance,Other Events,Partner Events
ATTACH;FMTTYPE=image/jpeg:https://sammonsartcenter.org/wp-content/uploads/2024/09/FlamencpFeverLogoonline.jpg
END:VEVENT
END:VCALENDAR