BEGIN:VCALENDAR
VERSION:2.0
PRODID:-//Sammons Center for the Arts - ECPv6.15.20//NONSGML v1.0//EN
CALSCALE:GREGORIAN
METHOD:PUBLISH
X-WR-CALNAME:Sammons Center for the Arts
X-ORIGINAL-URL:https://sammonsartcenter.org
X-WR-CALDESC:Events for Sammons Center for the Arts
REFRESH-INTERVAL;VALUE=DURATION:PT1H
X-Robots-Tag:noindex
X-PUBLISHED-TTL:PT1H
BEGIN:VTIMEZONE
TZID:America/New_York
BEGIN:DAYLIGHT
TZOFFSETFROM:-0500
TZOFFSETTO:-0400
TZNAME:EDT
DTSTART:20250309T070000
END:DAYLIGHT
BEGIN:STANDARD
TZOFFSETFROM:-0400
TZOFFSETTO:-0500
TZNAME:EST
DTSTART:20251102T060000
END:STANDARD
BEGIN:DAYLIGHT
TZOFFSETFROM:-0500
TZOFFSETTO:-0400
TZNAME:EDT
DTSTART:20260308T070000
END:DAYLIGHT
BEGIN:STANDARD
TZOFFSETFROM:-0400
TZOFFSETTO:-0500
TZNAME:EST
DTSTART:20261101T060000
END:STANDARD
BEGIN:DAYLIGHT
TZOFFSETFROM:-0500
TZOFFSETTO:-0400
TZNAME:EDT
DTSTART:20270314T070000
END:DAYLIGHT
BEGIN:STANDARD
TZOFFSETFROM:-0400
TZOFFSETTO:-0500
TZNAME:EST
DTSTART:20271107T060000
END:STANDARD
END:VTIMEZONE
BEGIN:VEVENT
DTSTART;TZID=America/New_York:20260301T193000
DTEND;TZID=America/New_York:20260301T193000
DTSTAMP:20260425T122712
CREATED:20260226T175645Z
LAST-MODIFIED:20260226T180013Z
UID:10000768-1772393400-1772393400@sammonsartcenter.org
SUMMARY:GDYO Young Virtuosi Concert
DESCRIPTION:Join Greater Dallas Youth Orchestra for our Young Virtuosi concert on Sunday\, March 1 at the Meyerson Symphony Center! Come hear DFW’s most talented teens and soloists in an unforgettable evening of true virtuosity! 🎻
URL:https://sammonsartcenter.org/event/gdyo-young-virtuosi-concert/
LOCATION:Morton H. Meyerson Symphony Center\, 2301 Flora St.\, Dallas\, TX\, 75201\, United States
CATEGORIES:Orchestra
ATTACH;FMTTYPE=image/jpeg:https://sammonsartcenter.org/wp-content/uploads/2026/02/gdyo-virtuosi.jpg
ORGANIZER;CN="Greater Dallas Youth Orchestra":MAILTO:info@gdyo.org
END:VEVENT
BEGIN:VEVENT
DTSTART;TZID=America/New_York:20260315T150000
DTEND;TZID=America/New_York:20260315T150000
DTSTAMP:20260425T122712
CREATED:20260223T181107Z
LAST-MODIFIED:20260223T181211Z
UID:10000766-1773586800-1773586800@sammonsartcenter.org
SUMMARY:New Horizons - We Fly
DESCRIPTION:Join us for an exhilarating evening featuring Quinn Mason’s joyous Inspiration! Festive Overture\, a rediscovered Romantic masterpiece in Léon Boëllmann’s Variations symphoniques with guest cellist Laura Ospina\, and a breathtaking cosmic journey through excerpts from Gustav Holst’s epic The Planets. Celebrate the soaring power of human inspiration\, the rediscovery of forgotten masterworks\, and a breathtaking journey through the cosmos itself with WE FLY.
URL:https://sammonsartcenter.org/event/new-horizons-we-fly/
LOCATION:Moody Performance Hall\, 2520 Flora St.\, Dallas\, TX\, 75201\, United States
CATEGORIES:Orchestra
ATTACH;FMTTYPE=image/webp:https://sammonsartcenter.org/wp-content/uploads/2026/02/WE-FLY-ntso.webp
END:VEVENT
BEGIN:VEVENT
DTSTART;TZID=America/New_York:20260328T140000
DTEND;TZID=America/New_York:20260328T140000
DTSTAMP:20260425T122712
CREATED:20260226T183316Z
LAST-MODIFIED:20260226T183316Z
UID:10000771-1774706400-1774706400@sammonsartcenter.org
SUMMARY:Pulcinella Jr.
DESCRIPTION:Avant Chamber Ballet and Orchestra New Spain join forces for a family-friendly introduction to ballet and live orchestra with the retelling of Igor Stravinsky’s “Pulcinella” set in Mexico!\nThe production will feature world premiere choreography by Fernanda Oliveira and Katie Puder\, new costumes and sets… with Orchestra on stage!
URL:https://sammonsartcenter.org/event/pulcinella-jr/
LOCATION:Moody Performance Hall\, 2520 Flora St.\, Dallas\, TX\, 75201\, United States
CATEGORIES:Ballet
ATTACH;FMTTYPE=image/jpeg:https://sammonsartcenter.org/wp-content/uploads/2026/02/Pulcinella-Jr-avant-scaled.jpg
END:VEVENT
END:VCALENDAR