BEGIN:VCALENDAR
VERSION:2.0
PRODID:-//Sammons Center for the Arts - ECPv6.15.20//NONSGML v1.0//EN
CALSCALE:GREGORIAN
METHOD:PUBLISH
X-WR-CALNAME:Sammons Center for the Arts
X-ORIGINAL-URL:https://sammonsartcenter.org
X-WR-CALDESC:Events for Sammons Center for the Arts
REFRESH-INTERVAL;VALUE=DURATION:PT1H
X-Robots-Tag:noindex
X-PUBLISHED-TTL:PT1H
BEGIN:VTIMEZONE
TZID:America/New_York
BEGIN:DAYLIGHT
TZOFFSETFROM:-0500
TZOFFSETTO:-0400
TZNAME:EDT
DTSTART:20230312T070000
END:DAYLIGHT
BEGIN:STANDARD
TZOFFSETFROM:-0400
TZOFFSETTO:-0500
TZNAME:EST
DTSTART:20231105T060000
END:STANDARD
BEGIN:DAYLIGHT
TZOFFSETFROM:-0500
TZOFFSETTO:-0400
TZNAME:EDT
DTSTART:20240310T070000
END:DAYLIGHT
BEGIN:STANDARD
TZOFFSETFROM:-0400
TZOFFSETTO:-0500
TZNAME:EST
DTSTART:20241103T060000
END:STANDARD
BEGIN:DAYLIGHT
TZOFFSETFROM:-0500
TZOFFSETTO:-0400
TZNAME:EDT
DTSTART:20250309T070000
END:DAYLIGHT
BEGIN:STANDARD
TZOFFSETFROM:-0400
TZOFFSETTO:-0500
TZNAME:EST
DTSTART:20251102T060000
END:STANDARD
END:VTIMEZONE
BEGIN:VEVENT
DTSTART;TZID=America/New_York:20241003T200000
DTEND;TZID=America/New_York:20241003T200000
DTSTAMP:20260425T065327
CREATED:20240910T013752Z
LAST-MODIFIED:20240910T013752Z
UID:10000305-1727985600-1727985600@sammonsartcenter.org
SUMMARY:RESONANCIAS…algo que no se ha agotado ~ 5th Annual Latinidades Theatre Festival
DESCRIPTION:Cara Mía Theatre presents\nASYC El Teatro de Movimiento’s Dance Production \nfrom Mexico City\, Mexico\n\nIn this mesmerizing dance production\, RESONANCIAS…algo que no se ha agotado\, three characters reconstruct their lives through the vibratory echoes of memory. Through the law of resonance\, emotions\, sounds\, and imaginations merge\, forming a captivating narrative woven from the threads of life growing up in Mexico City.\n\nTres personajes reconstruyen la vida a trave?s de la resonancia de la memoria. De acuerdo a la ley de la resonancia\, todo el universo se comunica por vibraciones\, todos los cuerpos poseen la cualidad de vibrar\, rebotar\, absorber y propagar energi?a vibratoria\, liberada en sonidos\, movimientos\, emociones e imaginacio?n.\n\nPerformed in Spanish with English Subtitles.
URL:https://sammonsartcenter.org/event/resonanciasalgo-que-no-se-ha-agotado-5th-annual-latinidades-theatre-festival/2024-10-03/
LOCATION:Latino Cultural Center\, 2600 Live Oak St.\, Dallas\, TX\, 75204\, United States
CATEGORIES:Dance,Other Events,Partner Events,Theater
ATTACH;FMTTYPE=image/png:https://sammonsartcenter.org/wp-content/uploads/2023/03/logo5.png
ORGANIZER;CN="Cara M%C3%ADa Theatre":MAILTO:info@caramiatheatre.org
END:VEVENT
BEGIN:VEVENT
DTSTART;TZID=America/New_York:20241005T180000
DTEND;TZID=America/New_York:20241005T180000
DTSTAMP:20260425T065327
CREATED:20240910T013752Z
LAST-MODIFIED:20240910T013752Z
UID:10000306-1728151200-1728151200@sammonsartcenter.org
SUMMARY:RESONANCIAS…algo que no se ha agotado ~ 5th Annual Latinidades Theatre Festival
DESCRIPTION:Cara Mía Theatre presents\nASYC El Teatro de Movimiento’s Dance Production \nfrom Mexico City\, Mexico\n\nIn this mesmerizing dance production\, RESONANCIAS…algo que no se ha agotado\, three characters reconstruct their lives through the vibratory echoes of memory. Through the law of resonance\, emotions\, sounds\, and imaginations merge\, forming a captivating narrative woven from the threads of life growing up in Mexico City.\n\nTres personajes reconstruyen la vida a trave?s de la resonancia de la memoria. De acuerdo a la ley de la resonancia\, todo el universo se comunica por vibraciones\, todos los cuerpos poseen la cualidad de vibrar\, rebotar\, absorber y propagar energi?a vibratoria\, liberada en sonidos\, movimientos\, emociones e imaginacio?n.\n\nPerformed in Spanish with English Subtitles.
URL:https://sammonsartcenter.org/event/resonanciasalgo-que-no-se-ha-agotado-5th-annual-latinidades-theatre-festival/2024-10-05/
LOCATION:Latino Cultural Center\, 2600 Live Oak St.\, Dallas\, TX\, 75204\, United States
CATEGORIES:Dance,Other Events,Partner Events,Theater
ATTACH;FMTTYPE=image/png:https://sammonsartcenter.org/wp-content/uploads/2023/03/logo5.png
ORGANIZER;CN="Cara M%C3%ADa Theatre":MAILTO:info@caramiatheatre.org
END:VEVENT
END:VCALENDAR