BEGIN:VCALENDAR
VERSION:2.0
PRODID:-//Sammons Center for the Arts - ECPv6.15.20//NONSGML v1.0//EN
CALSCALE:GREGORIAN
METHOD:PUBLISH
X-WR-CALNAME:Sammons Center for the Arts
X-ORIGINAL-URL:https://sammonsartcenter.org
X-WR-CALDESC:Events for Sammons Center for the Arts
REFRESH-INTERVAL;VALUE=DURATION:PT1H
X-Robots-Tag:noindex
X-PUBLISHED-TTL:PT1H
BEGIN:VTIMEZONE
TZID:America/New_York
BEGIN:DAYLIGHT
TZOFFSETFROM:-0500
TZOFFSETTO:-0400
TZNAME:EDT
DTSTART:20230312T070000
END:DAYLIGHT
BEGIN:STANDARD
TZOFFSETFROM:-0400
TZOFFSETTO:-0500
TZNAME:EST
DTSTART:20231105T060000
END:STANDARD
BEGIN:DAYLIGHT
TZOFFSETFROM:-0500
TZOFFSETTO:-0400
TZNAME:EDT
DTSTART:20240310T070000
END:DAYLIGHT
BEGIN:STANDARD
TZOFFSETFROM:-0400
TZOFFSETTO:-0500
TZNAME:EST
DTSTART:20241103T060000
END:STANDARD
BEGIN:DAYLIGHT
TZOFFSETFROM:-0500
TZOFFSETTO:-0400
TZNAME:EDT
DTSTART:20250309T070000
END:DAYLIGHT
BEGIN:STANDARD
TZOFFSETFROM:-0400
TZOFFSETTO:-0500
TZNAME:EST
DTSTART:20251102T060000
END:STANDARD
END:VTIMEZONE
BEGIN:VEVENT
DTSTART;TZID=America/New_York:20240711T193000
DTEND;TZID=America/New_York:20240711T193000
DTSTAMP:20260424T151244
CREATED:20240619T223859Z
LAST-MODIFIED:20240619T223859Z
UID:10000222-1720726200-1720726200@sammonsartcenter.org
SUMMARY:La Maupin: The French Abomination
DESCRIPTION:La Maupin is a tale of love and tragedy set in 18th century France all wrapped up in a high octane Punk Rock Vanity Fair package. Based on the true story of Julie D’Aubigny\, bisexual duelist and opera singer who was famous for dueling men and wooing their women. Through a beautiful mix of sword fighting and dance\, the show details her almost too incredible to believe exploits (like the time she burned down a nunnery to escape with her lover\, or the time she fought 3 men at once- and won!) While exploring the Julie’s journey to find happiness and acceptance as a queer woman way ahead of her time.
URL:https://sammonsartcenter.org/event/la-maupin-the-french-abomination/2024-07-11/
LOCATION:Hamon Hall\, 2403 Flora St.\, Dallas\, TX\, 75201\, United States
CATEGORIES:Other Events,Partner Events,Theater
ATTACH;FMTTYPE=image/png:https://sammonsartcenter.org/wp-content/uploads/2024/06/Prism-Movement-Theater.png
END:VEVENT
BEGIN:VEVENT
DTSTART;TZID=America/New_York:20240712T193000
DTEND;TZID=America/New_York:20240712T193000
DTSTAMP:20260424T151244
CREATED:20240619T223859Z
LAST-MODIFIED:20240619T223859Z
UID:10000223-1720812600-1720812600@sammonsartcenter.org
SUMMARY:La Maupin: The French Abomination
DESCRIPTION:La Maupin is a tale of love and tragedy set in 18th century France all wrapped up in a high octane Punk Rock Vanity Fair package. Based on the true story of Julie D’Aubigny\, bisexual duelist and opera singer who was famous for dueling men and wooing their women. Through a beautiful mix of sword fighting and dance\, the show details her almost too incredible to believe exploits (like the time she burned down a nunnery to escape with her lover\, or the time she fought 3 men at once- and won!) While exploring the Julie’s journey to find happiness and acceptance as a queer woman way ahead of her time.
URL:https://sammonsartcenter.org/event/la-maupin-the-french-abomination/2024-07-12/
LOCATION:Hamon Hall\, 2403 Flora St.\, Dallas\, TX\, 75201\, United States
CATEGORIES:Other Events,Partner Events,Theater
ATTACH;FMTTYPE=image/png:https://sammonsartcenter.org/wp-content/uploads/2024/06/Prism-Movement-Theater.png
END:VEVENT
BEGIN:VEVENT
DTSTART;TZID=America/New_York:20240713T193000
DTEND;TZID=America/New_York:20240713T193000
DTSTAMP:20260424T151244
CREATED:20240619T223859Z
LAST-MODIFIED:20240619T223859Z
UID:10000224-1720899000-1720899000@sammonsartcenter.org
SUMMARY:La Maupin: The French Abomination
DESCRIPTION:La Maupin is a tale of love and tragedy set in 18th century France all wrapped up in a high octane Punk Rock Vanity Fair package. Based on the true story of Julie D’Aubigny\, bisexual duelist and opera singer who was famous for dueling men and wooing their women. Through a beautiful mix of sword fighting and dance\, the show details her almost too incredible to believe exploits (like the time she burned down a nunnery to escape with her lover\, or the time she fought 3 men at once- and won!) While exploring the Julie’s journey to find happiness and acceptance as a queer woman way ahead of her time.
URL:https://sammonsartcenter.org/event/la-maupin-the-french-abomination/2024-07-13/
LOCATION:Hamon Hall\, 2403 Flora St.\, Dallas\, TX\, 75201\, United States
CATEGORIES:Other Events,Partner Events,Theater
ATTACH;FMTTYPE=image/png:https://sammonsartcenter.org/wp-content/uploads/2024/06/Prism-Movement-Theater.png
END:VEVENT
BEGIN:VEVENT
DTSTART;TZID=America/New_York:20240719T190000
DTEND;TZID=America/New_York:20240719T190000
DTSTAMP:20260424T151244
CREATED:20240619T224541Z
LAST-MODIFIED:20240619T224541Z
UID:10000225-1721415600-1721415600@sammonsartcenter.org
SUMMARY:Summer Ceremonial: Friday Ecstatic Dance
DESCRIPTION::: S U M M E R :: C E R E M O N I A L :: \nCeremony // a process in which the human capacity for sacred feeling and reverence is given form and expression – Stephen Harrod Buhner \nYou’re invited // to a gathering centered on intentional presence + fueled by exquisite music\, soulful sweat\, and the simplicity of connection. \nTogether // we alchemize. transform. transmute. \nTogether // we’ll honor the cusp of becoming. The potential + possibility that heartfelt intention met with a purposeful journey can open the door to a new threshold. We’ll discover collectively what waits on the otherside. \nAll are welcome // we are a multi-generational\, culturally\, gender\, and socioeconomically diverse community. \nRemember // all the ingredients for this adventure live in your own breath\, bones\, and blood. Dance is our birthright and our homecoming. A thread to a memory of our interconnectedness. \nSCHEDULE:\n7P | Doors to the Lobby Open for Elixir Lounge\n8P | Live Music Warm-Up: DMC House Band feat. Beckon\n9P | Opening Circle and Facilitation by Sarah Sampson\n9:30P | Ecstatic Dance Journey w. Dj Brian Aldridge\n11:30P | Sound Bath + Closing Circle Midnight Lounge Opens Post-Show for Tea + Connection \n“Ceremony can bring the quiescent back to life; it can open your mind and heart to what you once knew but have forgotten.” -Robin Wall Kimmerer\, Braiding Sweetgrass \nWHAT IS ECSTATIC DANCE: We create a space that is inspiring and uplifting; without talking\, alcohol or the nightclub scene. We encourage participants to utilize the Ecstatic Dance space as an invitation for their magical mysterious nature\, soulful somatic movement\, creative self-expression\, and heart-centered connection to self\, life and others. We hold a nonverbal\, barefoot\, alcohol-free container to keep the journey intentional and lucid. You can dance the night away and still wake up early to do awesome stuff in the world! \nADMISSION |\nTickets Available Online + at the door\n$30 :: first 30 tickets\n$40 :: until July 14th\n$45 :: until July 18th\n$50 :: day of event \nGUIDELINES:\n1. No talking on the dance floor\n2. Drug-Free\, Smoke-Free\, Alcohol-Free environment\n3. No photos or videos\, cellphones muted and out of sight\n4. Respect for the space and for one another\n5. Move your body however you wish!\n6. You can dance alone\, or with as many partners. (If you’d rather not dance with someone\, thank them for the offer by placing your hands in prayer position at your heart.)\nEverything will be explained in Opening Circle by Sarah! \nSUGGESTIONS:\n1. Dress comfortably to sweat & move.\n2. BYOWB — Bring your own water bottle – prefer non-glass.\n3. Bring supportive things if you wish – snacks\, etc. In love and mischief! \nCONTACT: info@dallasmovementcollective.com
URL:https://sammonsartcenter.org/event/summer-ceremonial-friday-ecstatic-dance/
LOCATION:Sammons Center for the Arts\, 3630 Harry Hines Blvd.\, Dallas\, TX\, 75219\, United States
CATEGORIES:Dance,Other Events,Partner Events
ATTACH;FMTTYPE=image/jpeg:https://sammonsartcenter.org/wp-content/uploads/2024/01/dallas_movement_collective.jpeg
END:VEVENT
END:VCALENDAR