BEGIN:VCALENDAR
VERSION:2.0
PRODID:-//Sammons Center for the Arts - ECPv6.15.20//NONSGML v1.0//EN
CALSCALE:GREGORIAN
METHOD:PUBLISH
X-WR-CALNAME:Sammons Center for the Arts
X-ORIGINAL-URL:https://sammonsartcenter.org
X-WR-CALDESC:Events for Sammons Center for the Arts
REFRESH-INTERVAL;VALUE=DURATION:PT1H
X-Robots-Tag:noindex
X-PUBLISHED-TTL:PT1H
BEGIN:VTIMEZONE
TZID:America/New_York
BEGIN:DAYLIGHT
TZOFFSETFROM:-0500
TZOFFSETTO:-0400
TZNAME:EDT
DTSTART:20240310T070000
END:DAYLIGHT
BEGIN:STANDARD
TZOFFSETFROM:-0400
TZOFFSETTO:-0500
TZNAME:EST
DTSTART:20241103T060000
END:STANDARD
BEGIN:DAYLIGHT
TZOFFSETFROM:-0500
TZOFFSETTO:-0400
TZNAME:EDT
DTSTART:20250309T070000
END:DAYLIGHT
BEGIN:STANDARD
TZOFFSETFROM:-0400
TZOFFSETTO:-0500
TZNAME:EST
DTSTART:20251102T060000
END:STANDARD
BEGIN:DAYLIGHT
TZOFFSETFROM:-0500
TZOFFSETTO:-0400
TZNAME:EDT
DTSTART:20260308T070000
END:DAYLIGHT
BEGIN:STANDARD
TZOFFSETFROM:-0400
TZOFFSETTO:-0500
TZNAME:EST
DTSTART:20261101T060000
END:STANDARD
END:VTIMEZONE
BEGIN:VEVENT
DTSTART;TZID=America/New_York:20250109T200000
DTEND;TZID=America/New_York:20250109T200000
DTSTAMP:20260424T172912
CREATED:20241119T211042Z
LAST-MODIFIED:20241119T211042Z
UID:10000403-1736452800-1736452800@sammonsartcenter.org
SUMMARY:The Lightning Thief: The Percy Jackson Musical
DESCRIPTION:As the half-blood son of a Greek god\, Percy Jackson has newly-discovered powers he can’t control\, a destiny he doesn’t want\, and a mythology textbook’s worth of monsters on his trail. When Zeus’s master lightning bolt is stolen and Percy becomes the prime suspect\, he has to find and return the bolt to prove his innocence and prevent a war between the gods. \nAdapted from the best-selling book The Lightning Thief by Rick Riordan and featuring a thrilling original rock score\, The Lightning Thief: The Percy Jackson Musical is an action-packed mythical adventure “worthy of the gods” (Time Out New York). \nPerformances on January 9th\, 10th\, & 11th will be at 8 pm with the Box Office opening at 7 pm and performance on January 12th will be at 2:30 pm with the Box Office opening at 1:30 pm. All productions will take place at the Moody Performance Hall (2520 Flora St\, Dallas\, TX 75201). \nBy purchasing a ticket\, you certify that you will not attend if you come into contact with someone with COVID-19\, if you yourself have been diagnosed with COVID-19\, and/or if you are displaying symptoms of COVID-19 like a fever\, cough\, shortness of breath\, headache\, aches\, and/or chills. Masks will be optional\, but not required\, while within the building. \nJunior Players is the oldest\, longest running arts programming nonprofit in Dallas. Since 1955\, we have provided innovative arts education for FREE to children and youth in North Texas and beyond.  Through our programming\, youth are transformed. Our camps and afterschool programs are targeted to arts deserts – those areas that are underfunded and underserved. There\, we engage children and youth through the arts\, providing them with the tools they need to navigate real life challenges confidently and competently.
URL:https://sammonsartcenter.org/event/the-lightning-thief-the-percy-jackson-musical/2025-01-09/
LOCATION:Moody Performance Hall\, 2520 Flora St.\, Dallas\, TX\, 75201\, United States
CATEGORIES:Other Events,Partner Events,Theater
ATTACH;FMTTYPE=image/png:https://sammonsartcenter.org/wp-content/uploads/2024/02/Juniorplayers-logo.png
ORGANIZER;CN="Junior Players":MAILTO:events@juniorplayers.org
END:VEVENT
BEGIN:VEVENT
DTSTART;TZID=America/New_York:20250110T200000
DTEND;TZID=America/New_York:20250110T200000
DTSTAMP:20260424T172912
CREATED:20241119T211042Z
LAST-MODIFIED:20241119T211042Z
UID:10000404-1736539200-1736539200@sammonsartcenter.org
SUMMARY:The Lightning Thief: The Percy Jackson Musical
DESCRIPTION:As the half-blood son of a Greek god\, Percy Jackson has newly-discovered powers he can’t control\, a destiny he doesn’t want\, and a mythology textbook’s worth of monsters on his trail. When Zeus’s master lightning bolt is stolen and Percy becomes the prime suspect\, he has to find and return the bolt to prove his innocence and prevent a war between the gods. \nAdapted from the best-selling book The Lightning Thief by Rick Riordan and featuring a thrilling original rock score\, The Lightning Thief: The Percy Jackson Musical is an action-packed mythical adventure “worthy of the gods” (Time Out New York). \nPerformances on January 9th\, 10th\, & 11th will be at 8 pm with the Box Office opening at 7 pm and performance on January 12th will be at 2:30 pm with the Box Office opening at 1:30 pm. All productions will take place at the Moody Performance Hall (2520 Flora St\, Dallas\, TX 75201). \nBy purchasing a ticket\, you certify that you will not attend if you come into contact with someone with COVID-19\, if you yourself have been diagnosed with COVID-19\, and/or if you are displaying symptoms of COVID-19 like a fever\, cough\, shortness of breath\, headache\, aches\, and/or chills. Masks will be optional\, but not required\, while within the building. \nJunior Players is the oldest\, longest running arts programming nonprofit in Dallas. Since 1955\, we have provided innovative arts education for FREE to children and youth in North Texas and beyond.  Through our programming\, youth are transformed. Our camps and afterschool programs are targeted to arts deserts – those areas that are underfunded and underserved. There\, we engage children and youth through the arts\, providing them with the tools they need to navigate real life challenges confidently and competently.
URL:https://sammonsartcenter.org/event/the-lightning-thief-the-percy-jackson-musical/2025-01-10/
LOCATION:Moody Performance Hall\, 2520 Flora St.\, Dallas\, TX\, 75201\, United States
CATEGORIES:Other Events,Partner Events,Theater
ATTACH;FMTTYPE=image/png:https://sammonsartcenter.org/wp-content/uploads/2024/02/Juniorplayers-logo.png
ORGANIZER;CN="Junior Players":MAILTO:events@juniorplayers.org
END:VEVENT
BEGIN:VEVENT
DTSTART;TZID=America/New_York:20250111T200000
DTEND;TZID=America/New_York:20250111T200000
DTSTAMP:20260424T172912
CREATED:20241119T211042Z
LAST-MODIFIED:20241119T211042Z
UID:10000405-1736625600-1736625600@sammonsartcenter.org
SUMMARY:The Lightning Thief: The Percy Jackson Musical
DESCRIPTION:As the half-blood son of a Greek god\, Percy Jackson has newly-discovered powers he can’t control\, a destiny he doesn’t want\, and a mythology textbook’s worth of monsters on his trail. When Zeus’s master lightning bolt is stolen and Percy becomes the prime suspect\, he has to find and return the bolt to prove his innocence and prevent a war between the gods. \nAdapted from the best-selling book The Lightning Thief by Rick Riordan and featuring a thrilling original rock score\, The Lightning Thief: The Percy Jackson Musical is an action-packed mythical adventure “worthy of the gods” (Time Out New York). \nPerformances on January 9th\, 10th\, & 11th will be at 8 pm with the Box Office opening at 7 pm and performance on January 12th will be at 2:30 pm with the Box Office opening at 1:30 pm. All productions will take place at the Moody Performance Hall (2520 Flora St\, Dallas\, TX 75201). \nBy purchasing a ticket\, you certify that you will not attend if you come into contact with someone with COVID-19\, if you yourself have been diagnosed with COVID-19\, and/or if you are displaying symptoms of COVID-19 like a fever\, cough\, shortness of breath\, headache\, aches\, and/or chills. Masks will be optional\, but not required\, while within the building. \nJunior Players is the oldest\, longest running arts programming nonprofit in Dallas. Since 1955\, we have provided innovative arts education for FREE to children and youth in North Texas and beyond.  Through our programming\, youth are transformed. Our camps and afterschool programs are targeted to arts deserts – those areas that are underfunded and underserved. There\, we engage children and youth through the arts\, providing them with the tools they need to navigate real life challenges confidently and competently.
URL:https://sammonsartcenter.org/event/the-lightning-thief-the-percy-jackson-musical/2025-01-11/
LOCATION:Moody Performance Hall\, 2520 Flora St.\, Dallas\, TX\, 75201\, United States
CATEGORIES:Other Events,Partner Events,Theater
ATTACH;FMTTYPE=image/png:https://sammonsartcenter.org/wp-content/uploads/2024/02/Juniorplayers-logo.png
ORGANIZER;CN="Junior Players":MAILTO:events@juniorplayers.org
END:VEVENT
BEGIN:VEVENT
DTSTART;TZID=America/New_York:20250112T143000
DTEND;TZID=America/New_York:20250112T143000
DTSTAMP:20260424T172912
CREATED:20241119T211042Z
LAST-MODIFIED:20241119T211042Z
UID:10000406-1736692200-1736692200@sammonsartcenter.org
SUMMARY:The Lightning Thief: The Percy Jackson Musical
DESCRIPTION:As the half-blood son of a Greek god\, Percy Jackson has newly-discovered powers he can’t control\, a destiny he doesn’t want\, and a mythology textbook’s worth of monsters on his trail. When Zeus’s master lightning bolt is stolen and Percy becomes the prime suspect\, he has to find and return the bolt to prove his innocence and prevent a war between the gods. \nAdapted from the best-selling book The Lightning Thief by Rick Riordan and featuring a thrilling original rock score\, The Lightning Thief: The Percy Jackson Musical is an action-packed mythical adventure “worthy of the gods” (Time Out New York). \nPerformances on January 9th\, 10th\, & 11th will be at 8 pm with the Box Office opening at 7 pm and performance on January 12th will be at 2:30 pm with the Box Office opening at 1:30 pm. All productions will take place at the Moody Performance Hall (2520 Flora St\, Dallas\, TX 75201). \nBy purchasing a ticket\, you certify that you will not attend if you come into contact with someone with COVID-19\, if you yourself have been diagnosed with COVID-19\, and/or if you are displaying symptoms of COVID-19 like a fever\, cough\, shortness of breath\, headache\, aches\, and/or chills. Masks will be optional\, but not required\, while within the building. \nJunior Players is the oldest\, longest running arts programming nonprofit in Dallas. Since 1955\, we have provided innovative arts education for FREE to children and youth in North Texas and beyond.  Through our programming\, youth are transformed. Our camps and afterschool programs are targeted to arts deserts – those areas that are underfunded and underserved. There\, we engage children and youth through the arts\, providing them with the tools they need to navigate real life challenges confidently and competently.
URL:https://sammonsartcenter.org/event/the-lightning-thief-the-percy-jackson-musical/2025-01-12/
LOCATION:Moody Performance Hall\, 2520 Flora St.\, Dallas\, TX\, 75201\, United States
CATEGORIES:Other Events,Partner Events,Theater
ATTACH;FMTTYPE=image/png:https://sammonsartcenter.org/wp-content/uploads/2024/02/Juniorplayers-logo.png
ORGANIZER;CN="Junior Players":MAILTO:events@juniorplayers.org
END:VEVENT
BEGIN:VEVENT
DTSTART;TZID=America/New_York:20250125T150000
DTEND;TZID=America/New_York:20250125T150000
DTSTAMP:20260424T172912
CREATED:20241119T213737Z
LAST-MODIFIED:20241119T213737Z
UID:10000411-1737817200-1737817200@sammonsartcenter.org
SUMMARY:FANTASY
DESCRIPTION:The Dallas-based PLUS Quartet is joined by oboist Gina Ford for Britten’s early Phantasy Quartet and a world premiere by Artistic Director Jonathan Cziner that was written specifically for Gina and her husband Filip. Graóyna Bacewicz’s masterful and exciting String Quartet No. 4 closes the program. \n\n\nProgram \nGabriela Ortiz ✦ Lío de Quatro (2017) \nJonathan Cziner ✦ Glimmer\, Flutter (2021) \nShelley Washington ✦ Middleground (2016) \nBritten ✦ Phantasy Quartet (1932) \nBacewicz ✦ String Quartet No. 4 (1950) \n—————- \n✦ All Programs are subject to change. \n✦ Performances will proceed without an intermission. However\, there will be a short pause between works. \n✦ Doors will open at 2:30PM. \n\n\n\n\nFor updated Parking info go to our website: \nhttps://www.voicesofchange.org/events \nAbout Us \nVoices of Change is the Southwest’s premiere professional chamber music ensemble dedicated to the performance of small ensemble works by modern composers. Now in its 49th year\, Voices of Change fills a unique niche in Dallas and North Texas by commissioning and performing only works by 20th and 21st century composers. Join us for rarely heard works\, world premiers\, and creative performances you won’t find anywhere else in Dallas!
URL:https://sammonsartcenter.org/event/fantasy/
LOCATION:Grace United Methodist Church\, 4105 Junius St\, Dallas\, TX\, 75246\, United States
CATEGORIES:Classical,Classical Chamber Music,Other Events
ATTACH;FMTTYPE=image/jpeg:https://sammonsartcenter.org/wp-content/uploads/2024/01/voices_of_change.jpeg
ORGANIZER;CN="Voices of Change":MAILTO:newmusic@voicesofchange.org
END:VEVENT
END:VCALENDAR