BEGIN:VCALENDAR
VERSION:2.0
PRODID:-//Sammons Center for the Arts - ECPv6.15.20//NONSGML v1.0//EN
CALSCALE:GREGORIAN
METHOD:PUBLISH
X-WR-CALNAME:Sammons Center for the Arts
X-ORIGINAL-URL:https://sammonsartcenter.org
X-WR-CALDESC:Events for Sammons Center for the Arts
REFRESH-INTERVAL;VALUE=DURATION:PT1H
X-Robots-Tag:noindex
X-PUBLISHED-TTL:PT1H
BEGIN:VTIMEZONE
TZID:America/New_York
BEGIN:DAYLIGHT
TZOFFSETFROM:-0500
TZOFFSETTO:-0400
TZNAME:EDT
DTSTART:20230312T070000
END:DAYLIGHT
BEGIN:STANDARD
TZOFFSETFROM:-0400
TZOFFSETTO:-0500
TZNAME:EST
DTSTART:20231105T060000
END:STANDARD
BEGIN:DAYLIGHT
TZOFFSETFROM:-0500
TZOFFSETTO:-0400
TZNAME:EDT
DTSTART:20240310T070000
END:DAYLIGHT
BEGIN:STANDARD
TZOFFSETFROM:-0400
TZOFFSETTO:-0500
TZNAME:EST
DTSTART:20241103T060000
END:STANDARD
BEGIN:DAYLIGHT
TZOFFSETFROM:-0500
TZOFFSETTO:-0400
TZNAME:EDT
DTSTART:20250309T070000
END:DAYLIGHT
BEGIN:STANDARD
TZOFFSETFROM:-0400
TZOFFSETTO:-0500
TZNAME:EST
DTSTART:20251102T060000
END:STANDARD
END:VTIMEZONE
BEGIN:VEVENT
DTSTART;TZID=America/New_York:20240714T143000
DTEND;TZID=America/New_York:20240714T143000
DTSTAMP:20260423T172155
CREATED:20240521T221943Z
LAST-MODIFIED:20240521T221943Z
UID:10000218-1720967400-1720967400@sammonsartcenter.org
SUMMARY:Basically Beethoven Festival 2024
DESCRIPTION:Basically\, the best show in town …\n\n\nFree\, family-friendly concerts on Sundays in July at 2:30 pm \n​The Basically Beethoven Festival was Fine Arts Chamber Players’ inaugural concert series. Since 1981\, the Festival has provided North Texas with free chamber music concerts during the month of July\, a traditionally slow time for arts events in Dallas. The Festival features professional musicians from local ensembles performing a diverse range of music. \n​Every program begins with a Rising Star Recital spotlighting local\, gifted young musicians\, many of whom are winners of area music contests and concerto competitions; followed by the Feature Performance showcasing professional musicians from across the Metroplex. \nAdmission is free and performances fulfill FACP’s commitment to produce classical music concerts with no barriers to attendance. Performances are enjoyed by longtime arts patrons and attendees who are new to classical music. Families with children in particular might find the Festival a good fit. \n​Since the pandemic\, we now offer recordings of these concerts on our YouTube channel HERE. \n​We are indebted to the past work of Dr. Alex McDonald\, Festival Director of Basically Beethoven Festival from 2015 – 2023.
URL:https://sammonsartcenter.org/event/basically-beethoven-festival-2024/2024-07-14/
LOCATION:Moody Performance Hall\, 2520 Flora St.\, Dallas\, TX\, 75201\, United States
CATEGORIES:Classical,Classical Chamber Music,Other Events,Partner Events
ATTACH;FMTTYPE=image/jpeg:https://sammonsartcenter.org/wp-content/uploads/2023/03/Fine-Arts-Chamber-Players-2-1-e1655922550547.jpg
ORGANIZER;CN="Fine Arts Chamber Players":MAILTO:music@fineartschamberplayers.org
END:VEVENT
BEGIN:VEVENT
DTSTART;TZID=America/New_York:20240721T143000
DTEND;TZID=America/New_York:20240721T143000
DTSTAMP:20260423T172155
CREATED:20240521T221943Z
LAST-MODIFIED:20240521T221943Z
UID:10000219-1721572200-1721572200@sammonsartcenter.org
SUMMARY:Basically Beethoven Festival 2024
DESCRIPTION:Basically\, the best show in town …\n\n\nFree\, family-friendly concerts on Sundays in July at 2:30 pm \n​The Basically Beethoven Festival was Fine Arts Chamber Players’ inaugural concert series. Since 1981\, the Festival has provided North Texas with free chamber music concerts during the month of July\, a traditionally slow time for arts events in Dallas. The Festival features professional musicians from local ensembles performing a diverse range of music. \n​Every program begins with a Rising Star Recital spotlighting local\, gifted young musicians\, many of whom are winners of area music contests and concerto competitions; followed by the Feature Performance showcasing professional musicians from across the Metroplex. \nAdmission is free and performances fulfill FACP’s commitment to produce classical music concerts with no barriers to attendance. Performances are enjoyed by longtime arts patrons and attendees who are new to classical music. Families with children in particular might find the Festival a good fit. \n​Since the pandemic\, we now offer recordings of these concerts on our YouTube channel HERE. \n​We are indebted to the past work of Dr. Alex McDonald\, Festival Director of Basically Beethoven Festival from 2015 – 2023.
URL:https://sammonsartcenter.org/event/basically-beethoven-festival-2024/2024-07-21/
LOCATION:Moody Performance Hall\, 2520 Flora St.\, Dallas\, TX\, 75201\, United States
CATEGORIES:Classical,Classical Chamber Music,Other Events,Partner Events
ATTACH;FMTTYPE=image/jpeg:https://sammonsartcenter.org/wp-content/uploads/2023/03/Fine-Arts-Chamber-Players-2-1-e1655922550547.jpg
ORGANIZER;CN="Fine Arts Chamber Players":MAILTO:music@fineartschamberplayers.org
END:VEVENT
BEGIN:VEVENT
DTSTART;TZID=America/New_York:20240728T143000
DTEND;TZID=America/New_York:20240728T143000
DTSTAMP:20260423T172155
CREATED:20240521T221943Z
LAST-MODIFIED:20240521T221943Z
UID:10000220-1722177000-1722177000@sammonsartcenter.org
SUMMARY:Basically Beethoven Festival 2024
DESCRIPTION:Basically\, the best show in town …\n\n\nFree\, family-friendly concerts on Sundays in July at 2:30 pm \n​The Basically Beethoven Festival was Fine Arts Chamber Players’ inaugural concert series. Since 1981\, the Festival has provided North Texas with free chamber music concerts during the month of July\, a traditionally slow time for arts events in Dallas. The Festival features professional musicians from local ensembles performing a diverse range of music. \n​Every program begins with a Rising Star Recital spotlighting local\, gifted young musicians\, many of whom are winners of area music contests and concerto competitions; followed by the Feature Performance showcasing professional musicians from across the Metroplex. \nAdmission is free and performances fulfill FACP’s commitment to produce classical music concerts with no barriers to attendance. Performances are enjoyed by longtime arts patrons and attendees who are new to classical music. Families with children in particular might find the Festival a good fit. \n​Since the pandemic\, we now offer recordings of these concerts on our YouTube channel HERE. \n​We are indebted to the past work of Dr. Alex McDonald\, Festival Director of Basically Beethoven Festival from 2015 – 2023.
URL:https://sammonsartcenter.org/event/basically-beethoven-festival-2024/2024-07-28/
LOCATION:Moody Performance Hall\, 2520 Flora St.\, Dallas\, TX\, 75201\, United States
CATEGORIES:Classical,Classical Chamber Music,Other Events,Partner Events
ATTACH;FMTTYPE=image/jpeg:https://sammonsartcenter.org/wp-content/uploads/2023/03/Fine-Arts-Chamber-Players-2-1-e1655922550547.jpg
ORGANIZER;CN="Fine Arts Chamber Players":MAILTO:music@fineartschamberplayers.org
END:VEVENT
END:VCALENDAR