BEGIN:VCALENDAR
VERSION:2.0
PRODID:-//Sammons Center for the Arts - ECPv6.15.20//NONSGML v1.0//EN
CALSCALE:GREGORIAN
METHOD:PUBLISH
X-WR-CALNAME:Sammons Center for the Arts
X-ORIGINAL-URL:https://sammonsartcenter.org
X-WR-CALDESC:Events for Sammons Center for the Arts
REFRESH-INTERVAL;VALUE=DURATION:PT1H
X-Robots-Tag:noindex
X-PUBLISHED-TTL:PT1H
BEGIN:VTIMEZONE
TZID:America/New_York
BEGIN:DAYLIGHT
TZOFFSETFROM:-0500
TZOFFSETTO:-0400
TZNAME:EDT
DTSTART:20230312T070000
END:DAYLIGHT
BEGIN:STANDARD
TZOFFSETFROM:-0400
TZOFFSETTO:-0500
TZNAME:EST
DTSTART:20231105T060000
END:STANDARD
BEGIN:DAYLIGHT
TZOFFSETFROM:-0500
TZOFFSETTO:-0400
TZNAME:EDT
DTSTART:20240310T070000
END:DAYLIGHT
BEGIN:STANDARD
TZOFFSETFROM:-0400
TZOFFSETTO:-0500
TZNAME:EST
DTSTART:20241103T060000
END:STANDARD
BEGIN:DAYLIGHT
TZOFFSETFROM:-0500
TZOFFSETTO:-0400
TZNAME:EDT
DTSTART:20250309T070000
END:DAYLIGHT
BEGIN:STANDARD
TZOFFSETFROM:-0400
TZOFFSETTO:-0500
TZNAME:EST
DTSTART:20251102T060000
END:STANDARD
END:VTIMEZONE
BEGIN:VEVENT
DTSTART;TZID=America/New_York:20240917T190000
DTEND;TZID=America/New_York:20240917T190000
DTSTAMP:20260425T065112
CREATED:20240909T213137Z
LAST-MODIFIED:20240909T213137Z
UID:10000289-1726599600-1726599600@sammonsartcenter.org
SUMMARY:JourneyDance! EMBODY: Feel\, Heal and Transform with Toni Bergins
DESCRIPTION:Join us in welcoming international movement teacher + founder of JourneyDance®\, for EMBODY: Feel\, Heal & Transform. \nTransformation and change must happen in the body\, not just the mind. Learning to tend to your body\, emotions\, and energetic vibration is essential for living a vibrant life. Using the JourneyDance™ process\, we become deeply embodied\, enabling us to listen to our heart’s callings and align with our deepest knowing. \nJoin Toni as she leads you into embodied presence\, emotional empowerment\, and inner states of joy. This journey will guide you out of old patterns and into a new story\, moving forward in your personal evolution. Our emotions are our power\, each holding a lesson for us. By learning to feel and express\, we move stuck energy and open to ﬂow and freedom.\nWe move with what needs to be released\, letting go of the past and overlaying new cellular patterns. Turning our angst into art\, we ignite a new passion for life. By releasing judgment and embracing our sensual soul\, we step into a new narrative of honest self-love\, pronounced joy\, and learn to connect more deeply with ourselves and others. \nJoin us to expand your emotional bandwidth\, discover your emotional empowerment\, and increase your capacity to experience love\, joy\, and wholeness! When you nurture yourself through movement\, expression\, ritual\, and deep connection\, you remember who you truly are. \nNo experience required\, all bodies + voices are welcome. \n*Space is limited :: register in advance. \nDATE | Tuesday September 17th \nSCHEDULE | 7-9P \nLOCATION | Owenwood Neighbor Space \nINVESTMENT |\nFirst 10 Tickets :: $35\nTier One :: $40\nDay of Event :: $45 \n* Limited scholarships and specific discounts available upon request. Contact producer :: sarah@dallasmovementcollective.com \nJoining Toni :: DANCE PANTS EXTRAVAGANZA TRUNK SHOW \nKelley Keefner is a Berkshires MA designer who travels the country and abroad sharing her unique and very few of a kind art wear. She specializes in custom pieces for clients to create that perfect fit and look. Her pieces are timeless with flexibility and fashion combined. Her pieces can be seen at weddings and formal events or as day to day comfort wear.\nShe seeks to upcycle and recycle fabrics and clothing whenever possible making much of her line eco friendly. Kelley Keefner designs functional art clothing for active and stylish fashion enthusiasts and encourages people to step out of the box and co-create a closet full of fun.
URL:https://sammonsartcenter.org/event/journeydance-embody-feel-heal-and-transform-with-toni-bergins/
LOCATION:Owenwood Farm & Neighborhood Space\, 1451 John West Rd\, Dallas\, TX\, 75228\, United States
CATEGORIES:Dance,Other Events,Partner Events
ATTACH;FMTTYPE=image/jpeg:https://sammonsartcenter.org/wp-content/uploads/2024/01/dallas_movement_collective.jpeg
END:VEVENT
END:VCALENDAR