BEGIN:VCALENDAR
VERSION:2.0
PRODID:-//Sammons Center for the Arts - ECPv6.15.20//NONSGML v1.0//EN
CALSCALE:GREGORIAN
METHOD:PUBLISH
X-WR-CALNAME:Sammons Center for the Arts
X-ORIGINAL-URL:https://sammonsartcenter.org
X-WR-CALDESC:Events for Sammons Center for the Arts
REFRESH-INTERVAL;VALUE=DURATION:PT1H
X-Robots-Tag:noindex
X-PUBLISHED-TTL:PT1H
BEGIN:VTIMEZONE
TZID:America/New_York
BEGIN:DAYLIGHT
TZOFFSETFROM:-0500
TZOFFSETTO:-0400
TZNAME:EDT
DTSTART:20250309T070000
END:DAYLIGHT
BEGIN:STANDARD
TZOFFSETFROM:-0400
TZOFFSETTO:-0500
TZNAME:EST
DTSTART:20251102T060000
END:STANDARD
BEGIN:DAYLIGHT
TZOFFSETFROM:-0500
TZOFFSETTO:-0400
TZNAME:EDT
DTSTART:20260308T070000
END:DAYLIGHT
BEGIN:STANDARD
TZOFFSETFROM:-0400
TZOFFSETTO:-0500
TZNAME:EST
DTSTART:20261101T060000
END:STANDARD
BEGIN:DAYLIGHT
TZOFFSETFROM:-0500
TZOFFSETTO:-0400
TZNAME:EDT
DTSTART:20270314T070000
END:DAYLIGHT
BEGIN:STANDARD
TZOFFSETFROM:-0400
TZOFFSETTO:-0500
TZNAME:EST
DTSTART:20271107T060000
END:STANDARD
END:VTIMEZONE
BEGIN:VEVENT
DTSTART;TZID=America/New_York:20260501T190000
DTEND;TZID=America/New_York:20260501T190000
DTSTAMP:20260425T231955
CREATED:20260423T203558Z
LAST-MODIFIED:20260423T203728Z
UID:10000804-1777662000-1777662000@sammonsartcenter.org
SUMMARY:Asterisk 31
DESCRIPTION:The event opens with interactive workshops designed for all ages and experience levels\, offering participants the opportunity to engage directly with movement\, creativity\, and cultural expression. No prior dance experience is required. These workshops are supported in part by the City of Dallas Office of Arts & Culture.\nFollowing the workshops\, enjoy a dynamic performance featuring modern\, contemporary\, ballet\, and West African dance works performed by BDC artists. The program highlights both new choreography and repertory pieces that celebrate storytelling\, culture\, and community.
URL:https://sammonsartcenter.org/event/asterisk-31/2026-05-01/
LOCATION:South Dallas Cultural Center\, 3400 S Fitzhugh Ave\, Dallas\, TX\, 75216\, United States
CATEGORIES:Ballet,Dance
ATTACH;FMTTYPE=image/avif:https://sammonsartcenter.org/wp-content/uploads/2026/04/beckles-asterisk-31-flyer.avif
END:VEVENT
BEGIN:VEVENT
DTSTART;TZID=America/New_York:20260502T190000
DTEND;TZID=America/New_York:20260502T190000
DTSTAMP:20260425T231955
CREATED:20260423T203558Z
LAST-MODIFIED:20260423T203728Z
UID:10000805-1777748400-1777748400@sammonsartcenter.org
SUMMARY:Asterisk 31
DESCRIPTION:The event opens with interactive workshops designed for all ages and experience levels\, offering participants the opportunity to engage directly with movement\, creativity\, and cultural expression. No prior dance experience is required. These workshops are supported in part by the City of Dallas Office of Arts & Culture.\nFollowing the workshops\, enjoy a dynamic performance featuring modern\, contemporary\, ballet\, and West African dance works performed by BDC artists. The program highlights both new choreography and repertory pieces that celebrate storytelling\, culture\, and community.
URL:https://sammonsartcenter.org/event/asterisk-31/2026-05-02/
LOCATION:South Dallas Cultural Center\, 3400 S Fitzhugh Ave\, Dallas\, TX\, 75216\, United States
CATEGORIES:Ballet,Dance
ATTACH;FMTTYPE=image/avif:https://sammonsartcenter.org/wp-content/uploads/2026/04/beckles-asterisk-31-flyer.avif
END:VEVENT
END:VCALENDAR