BEGIN:VCALENDAR
VERSION:2.0
PRODID:-//Sammons Center for the Arts - ECPv6.15.20//NONSGML v1.0//EN
CALSCALE:GREGORIAN
METHOD:PUBLISH
X-WR-CALNAME:Sammons Center for the Arts
X-ORIGINAL-URL:https://sammonsartcenter.org
X-WR-CALDESC:Events for Sammons Center for the Arts
REFRESH-INTERVAL;VALUE=DURATION:PT1H
X-Robots-Tag:noindex
X-PUBLISHED-TTL:PT1H
BEGIN:VTIMEZONE
TZID:America/New_York
BEGIN:DAYLIGHT
TZOFFSETFROM:-0500
TZOFFSETTO:-0400
TZNAME:EDT
DTSTART:20240310T070000
END:DAYLIGHT
BEGIN:STANDARD
TZOFFSETFROM:-0400
TZOFFSETTO:-0500
TZNAME:EST
DTSTART:20241103T060000
END:STANDARD
BEGIN:DAYLIGHT
TZOFFSETFROM:-0500
TZOFFSETTO:-0400
TZNAME:EDT
DTSTART:20250309T070000
END:DAYLIGHT
BEGIN:STANDARD
TZOFFSETFROM:-0400
TZOFFSETTO:-0500
TZNAME:EST
DTSTART:20251102T060000
END:STANDARD
BEGIN:DAYLIGHT
TZOFFSETFROM:-0500
TZOFFSETTO:-0400
TZNAME:EDT
DTSTART:20260308T070000
END:DAYLIGHT
BEGIN:STANDARD
TZOFFSETFROM:-0400
TZOFFSETTO:-0500
TZNAME:EST
DTSTART:20261101T060000
END:STANDARD
END:VTIMEZONE
BEGIN:VEVENT
DTSTART;TZID=America/New_York:20251101T093000
DTEND;TZID=America/New_York:20251101T123000
DTSTAMP:20260423T211234
CREATED:20250923T173646Z
LAST-MODIFIED:20250925T175705Z
UID:10000458-1761989400-1762000200@sammonsartcenter.org
SUMMARY:African Drum & Dance Class
DESCRIPTION:Class is open to all ages and levels. First timers are always welcome to drop in. Classes are always accompanied by live and energetic African drumming. $15 for adults and $5 for children.
URL:https://sammonsartcenter.org/event/african-drum-dance-class/2025-11-01/
LOCATION:Sammons Center for the Arts\, 3630 Harry Hines Blvd.\, Dallas\, TX\, 75219\, United States
CATEGORIES:Dance
ATTACH;FMTTYPE=image/jpeg:https://sammonsartcenter.org/wp-content/uploads/2025/09/Bandan-Koro-for-website-logo.jpg
ORGANIZER;CN="Bandan Koro":MAILTO:DallasAfricanDance@gmail.com
END:VEVENT
BEGIN:VEVENT
DTSTART;TZID=America/New_York:20251102T150000
DTEND;TZID=America/New_York:20251102T150000
DTSTAMP:20260423T211234
CREATED:20250917T155316Z
LAST-MODIFIED:20250917T190351Z
UID:10000443-1762095600-1762095600@sammonsartcenter.org
SUMMARY:MOMIX Dance Performance @ UTD
DESCRIPTION:In an endless search for another gravity\, MOMIX Artistic Director Moses Pendleton combines athletic dance\, riveting music\, outrageous costumes\, inventive props\, and pure talent to create an entertaining multimedia experience that will surprise\, enchant\, and astonish. Experience the exceptional… expect the unexpected! \nRegister for your free tickets here
URL:https://sammonsartcenter.org/event/momix-dance-performance/
LOCATION:ATC Lecture Hall @ University of Texas at Dallas\, 800 W Campbell Rd #3021\, Richardson\, TX\, 75080\, United States
CATEGORIES:Dance
ATTACH;FMTTYPE=image/jpeg:https://sammonsartcenter.org/wp-content/uploads/2025/09/Paper-Trails-35th-Anniversary-1024x768-1.jpg
END:VEVENT
BEGIN:VEVENT
DTSTART;TZID=America/New_York:20251105T193000
DTEND;TZID=America/New_York:20251105T193000
DTSTAMP:20260423T211234
CREATED:20250925T185004Z
LAST-MODIFIED:20251008T220419Z
UID:10000715-1762371000-1762371000@sammonsartcenter.org
SUMMARY:Sammons Jazz: Jazz with a Twist
DESCRIPTION:Vocal dynamo Andrea Wallace returns to the stage for a night that fuses tradition with fresh\, new perspectives. Joining her are Eric Willis on piano\, Nick Woodhouse on bass\, Cleon Edwards on drums\, and Marcus Parks on trombone—bringing flair and finesse to every phrase. \nAlso taking the stage is guitarist Todd Parsnow\, whose deep-rooted love for jazz comes through in every performance. Drawing on a wide range of musical influences\, he brings both versatility and heart to the stage—and might even perform some vocals during the set. He’s joined by Jonathan Fisher on bass\, Andrew Griffith on drums\, and a dynamic horn section. \nThe concert begins at 7:30 p.m.; doors to Meadows Hall open at 7:00 p.m. A pre-concert reception opens at 6:00 p.m. on the Mary Anne Sammons Cree Mezzanine (second floor). Check-in opens at 6:00 p.m. in the lobby. \n\nPurchase Tickets
URL:https://sammonsartcenter.org/event/39606/
LOCATION:Sammons Center for the Arts\, 3630 Harry Hines Blvd.\, Dallas\, TX\, 75219\, United States
CATEGORIES:Sammons Center Events,Sammons Jazz
END:VEVENT
BEGIN:VEVENT
DTSTART;TZID=America/New_York:20251107T200000
DTEND;TZID=America/New_York:20251107T220000
DTSTAMP:20260423T211234
CREATED:20250930T164859Z
LAST-MODIFIED:20251013T162209Z
UID:10000718-1762545600-1762552800@sammonsartcenter.org
SUMMARY:Bailando con La Muerte
DESCRIPTION:Bailando con la Muerte/Dancing with Death is a collection of personal stories related to death as told by Teatro Flor Candela performers. The scene unfolds in a funeral home- a contest that further unifies each story around the common them of death. The production is both whimsical and deep\, as both crying and laughter are inevitable in face of death \nBailando con la Muerte  es una serie de historias personales relacionadas con la muerte y contadas por los integrantes de Teatro Flor Candela. La escena tiene lugar en una funeraria -donde se va unificando cada relato con un tema común: la muerte. Esta producción es extravagante y profunda ya que llorar y reír son inevitables frente a la muerte \nhttps://www.teatroflorcandela.org/upcoming-events.html \n  \n  \n 
URL:https://sammonsartcenter.org/event/bailando-con-la-muerte/
LOCATION:Sammons Center for the Arts\, 3630 Harry Hines Blvd.\, Dallas\, TX\, 75219\, United States
CATEGORIES:Dance
ATTACH;FMTTYPE=image/jpeg:https://sammonsartcenter.org/wp-content/uploads/2025/09/Facebook-Event-Nov-7.jpeg
END:VEVENT
BEGIN:VEVENT
DTSTART;TZID=America/New_York:20251108T093000
DTEND;TZID=America/New_York:20251108T123000
DTSTAMP:20260423T211234
CREATED:20250923T173646Z
LAST-MODIFIED:20250925T175705Z
UID:10000459-1762594200-1762605000@sammonsartcenter.org
SUMMARY:African Drum & Dance Class
DESCRIPTION:Class is open to all ages and levels. First timers are always welcome to drop in. Classes are always accompanied by live and energetic African drumming. $15 for adults and $5 for children.
URL:https://sammonsartcenter.org/event/african-drum-dance-class/2025-11-08/
LOCATION:Sammons Center for the Arts\, 3630 Harry Hines Blvd.\, Dallas\, TX\, 75219\, United States
CATEGORIES:Dance
ATTACH;FMTTYPE=image/jpeg:https://sammonsartcenter.org/wp-content/uploads/2025/09/Bandan-Koro-for-website-logo.jpg
ORGANIZER;CN="Bandan Koro":MAILTO:DallasAfricanDance@gmail.com
END:VEVENT
BEGIN:VEVENT
DTSTART;TZID=America/New_York:20251109T143000
DTEND;TZID=America/New_York:20251109T143000
DTSTAMP:20260423T211234
CREATED:20251105T201214Z
LAST-MODIFIED:20251105T201214Z
UID:10000739-1762698600-1762698600@sammonsartcenter.org
SUMMARY:YPO\, DSE\, and Sinfonietta Concert
DESCRIPTION:Join the talented young strings players of Greater Dallas Youth Orchestra’s Young Performers Orchestra\, Dallas String Ensemble & Sinfonietta in concert on Sunday\, November 9 at 2:30 pm at the Moody Performance Hall!
URL:https://sammonsartcenter.org/event/ypo-dse-and-sinfonietta-concert/
LOCATION:Moody Performance Hall\, 2520 Flora St.\, Dallas\, TX\, 75201\, United States
CATEGORIES:Orchestra
ATTACH;FMTTYPE=image/jpeg:https://sammonsartcenter.org/wp-content/uploads/2025/11/GDYOjc.jpg
ORGANIZER;CN="Greater Dallas Youth Orchestra":MAILTO:info@gdyo.org
END:VEVENT
BEGIN:VEVENT
DTSTART;TZID=America/New_York:20251115T093000
DTEND;TZID=America/New_York:20251115T123000
DTSTAMP:20260423T211234
CREATED:20250923T173646Z
LAST-MODIFIED:20250925T175705Z
UID:10000460-1763199000-1763209800@sammonsartcenter.org
SUMMARY:African Drum & Dance Class
DESCRIPTION:Class is open to all ages and levels. First timers are always welcome to drop in. Classes are always accompanied by live and energetic African drumming. $15 for adults and $5 for children.
URL:https://sammonsartcenter.org/event/african-drum-dance-class/2025-11-15/
LOCATION:Sammons Center for the Arts\, 3630 Harry Hines Blvd.\, Dallas\, TX\, 75219\, United States
CATEGORIES:Dance
ATTACH;FMTTYPE=image/jpeg:https://sammonsartcenter.org/wp-content/uploads/2025/09/Bandan-Koro-for-website-logo.jpg
ORGANIZER;CN="Bandan Koro":MAILTO:DallasAfricanDance@gmail.com
END:VEVENT
BEGIN:VEVENT
DTSTART;TZID=America/New_York:20251120T193000
DTEND;TZID=America/New_York:20251120T193000
DTSTAMP:20260423T211234
CREATED:20250925T191804Z
LAST-MODIFIED:20251119T164708Z
UID:10000716-1763667000-1763667000@sammonsartcenter.org
SUMMARY:POSTPONED Sammons Cabaret: Heather Paterson
DESCRIPTION:The concert has been postponed to January 22\, 2026. If you purchased tickets\, you may transfer them to the new date\, receive ticket credits for the next season\, or request a refund. For questions\, please call (214) 520-7788. \n\nElegant\, expressive\, and effortlessly cool\, Heather Paterson brings her crystalline voice and rich jazz interpretations back to the Sammons stage. A longtime favorite among the Sammons Center’s audiences\, Heather infuses every song with heartfelt storytelling\, impeccable technique\, and the timeless charm of the Great American Songbook. Inspired by jazz legends like Ella Fitzgerald and backed by decades of musical and life experience\, she delivers performances that are as moving as they are masterful. We are honored to welcome her back for what promises to be an unforgettable evening of song and swing. \nThe concert begins at 7:30 p.m.; doors to Kurth Hall (fourth floor) open at 7:00 p.m. A pre-concert reception opens at 6:00 p.m. on the Mary Anne Sammons Cree Mezzanine (second floor). Check-in opens at 6:00 p.m. on the fourth floor.
URL:https://sammonsartcenter.org/event/sammons-cabaret-heather-paterson/
LOCATION:Sammons Center for the Arts\, 3630 Harry Hines Blvd.\, Dallas\, TX\, 75219\, United States
CATEGORIES:Sammons Cabaret,Sammons Center Events
END:VEVENT
BEGIN:VEVENT
DTSTART;TZID=America/New_York:20251122T093000
DTEND;TZID=America/New_York:20251122T123000
DTSTAMP:20260423T211234
CREATED:20250923T173646Z
LAST-MODIFIED:20250925T175705Z
UID:10000461-1763803800-1763814600@sammonsartcenter.org
SUMMARY:African Drum & Dance Class
DESCRIPTION:Class is open to all ages and levels. First timers are always welcome to drop in. Classes are always accompanied by live and energetic African drumming. $15 for adults and $5 for children.
URL:https://sammonsartcenter.org/event/african-drum-dance-class/2025-11-22/
LOCATION:Sammons Center for the Arts\, 3630 Harry Hines Blvd.\, Dallas\, TX\, 75219\, United States
CATEGORIES:Dance
ATTACH;FMTTYPE=image/jpeg:https://sammonsartcenter.org/wp-content/uploads/2025/09/Bandan-Koro-for-website-logo.jpg
ORGANIZER;CN="Bandan Koro":MAILTO:DallasAfricanDance@gmail.com
END:VEVENT
BEGIN:VEVENT
DTSTART;TZID=America/New_York:20251129T093000
DTEND;TZID=America/New_York:20251129T123000
DTSTAMP:20260423T211234
CREATED:20250923T173646Z
LAST-MODIFIED:20250925T175705Z
UID:10000462-1764408600-1764419400@sammonsartcenter.org
SUMMARY:African Drum & Dance Class
DESCRIPTION:Class is open to all ages and levels. First timers are always welcome to drop in. Classes are always accompanied by live and energetic African drumming. $15 for adults and $5 for children.
URL:https://sammonsartcenter.org/event/african-drum-dance-class/2025-11-29/
LOCATION:Sammons Center for the Arts\, 3630 Harry Hines Blvd.\, Dallas\, TX\, 75219\, United States
CATEGORIES:Dance
ATTACH;FMTTYPE=image/jpeg:https://sammonsartcenter.org/wp-content/uploads/2025/09/Bandan-Koro-for-website-logo.jpg
ORGANIZER;CN="Bandan Koro":MAILTO:DallasAfricanDance@gmail.com
END:VEVENT
END:VCALENDAR