BEGIN:VCALENDAR
VERSION:2.0
PRODID:-//Sammons Center for the Arts - ECPv6.15.20//NONSGML v1.0//EN
CALSCALE:GREGORIAN
METHOD:PUBLISH
X-ORIGINAL-URL:https://sammonsartcenter.org
X-WR-CALDESC:Events for Sammons Center for the Arts
REFRESH-INTERVAL;VALUE=DURATION:PT1H
X-Robots-Tag:noindex
X-PUBLISHED-TTL:PT1H
BEGIN:VTIMEZONE
TZID:America/New_York
BEGIN:DAYLIGHT
TZOFFSETFROM:-0500
TZOFFSETTO:-0400
TZNAME:EDT
DTSTART:20240310T070000
END:DAYLIGHT
BEGIN:STANDARD
TZOFFSETFROM:-0400
TZOFFSETTO:-0500
TZNAME:EST
DTSTART:20241103T060000
END:STANDARD
BEGIN:DAYLIGHT
TZOFFSETFROM:-0500
TZOFFSETTO:-0400
TZNAME:EDT
DTSTART:20250309T070000
END:DAYLIGHT
BEGIN:STANDARD
TZOFFSETFROM:-0400
TZOFFSETTO:-0500
TZNAME:EST
DTSTART:20251102T060000
END:STANDARD
BEGIN:DAYLIGHT
TZOFFSETFROM:-0500
TZOFFSETTO:-0400
TZNAME:EDT
DTSTART:20260308T070000
END:DAYLIGHT
BEGIN:STANDARD
TZOFFSETFROM:-0400
TZOFFSETTO:-0500
TZNAME:EST
DTSTART:20261101T060000
END:STANDARD
END:VTIMEZONE
BEGIN:VEVENT
DTSTART;TZID=America/New_York:20251102T150000
DTEND;TZID=America/New_York:20251102T150000
DTSTAMP:20260423T114102
CREATED:20250917T155316Z
LAST-MODIFIED:20250917T190351Z
UID:10000443-1762095600-1762095600@sammonsartcenter.org
SUMMARY:MOMIX Dance Performance @ UTD
DESCRIPTION:In an endless search for another gravity\, MOMIX Artistic Director Moses Pendleton combines athletic dance\, riveting music\, outrageous costumes\, inventive props\, and pure talent to create an entertaining multimedia experience that will surprise\, enchant\, and astonish. Experience the exceptional… expect the unexpected! \nRegister for your free tickets here
URL:https://sammonsartcenter.org/event/momix-dance-performance/
LOCATION:ATC Lecture Hall @ University of Texas at Dallas\, 800 W Campbell Rd #3021\, Richardson\, TX\, 75080\, United States
CATEGORIES:Dance
ATTACH;FMTTYPE=image/jpeg:https://sammonsartcenter.org/wp-content/uploads/2025/09/Paper-Trails-35th-Anniversary-1024x768-1.jpg
END:VEVENT
END:VCALENDAR