BEGIN:VCALENDAR
VERSION:2.0
PRODID:-//Sammons Center for the Arts - ECPv6.15.20//NONSGML v1.0//EN
CALSCALE:GREGORIAN
METHOD:PUBLISH
X-ORIGINAL-URL:https://sammonsartcenter.org
X-WR-CALDESC:Events for Sammons Center for the Arts
REFRESH-INTERVAL;VALUE=DURATION:PT1H
X-Robots-Tag:noindex
X-PUBLISHED-TTL:PT1H
BEGIN:VTIMEZONE
TZID:America/New_York
BEGIN:DAYLIGHT
TZOFFSETFROM:-0500
TZOFFSETTO:-0400
TZNAME:EDT
DTSTART:20230312T070000
END:DAYLIGHT
BEGIN:STANDARD
TZOFFSETFROM:-0400
TZOFFSETTO:-0500
TZNAME:EST
DTSTART:20231105T060000
END:STANDARD
BEGIN:DAYLIGHT
TZOFFSETFROM:-0500
TZOFFSETTO:-0400
TZNAME:EDT
DTSTART:20240310T070000
END:DAYLIGHT
BEGIN:STANDARD
TZOFFSETFROM:-0400
TZOFFSETTO:-0500
TZNAME:EST
DTSTART:20241103T060000
END:STANDARD
BEGIN:DAYLIGHT
TZOFFSETFROM:-0500
TZOFFSETTO:-0400
TZNAME:EDT
DTSTART:20250309T070000
END:DAYLIGHT
BEGIN:STANDARD
TZOFFSETFROM:-0400
TZOFFSETTO:-0500
TZNAME:EST
DTSTART:20251102T060000
END:STANDARD
END:VTIMEZONE
BEGIN:VEVENT
DTSTART;TZID=America/New_York:20241208T140000
DTEND;TZID=America/New_York:20241208T140000
DTSTAMP:20260423T072909
CREATED:20240925T031151Z
LAST-MODIFIED:20241105T221149Z
UID:10000365-1733666400-1733666400@sammonsartcenter.org
SUMMARY:Forever Plaid – Plaid Tidings
DESCRIPTION:Lyric Stage opens its 31st Season with this holiday classic by Stewart Ross! Presented at the Lyric Studios Space\, with both general admission and reserved café tables. Share some holiday joy with your friends and family at Lyric Stage. \nAt first\, Francis\, Jinx\, Smudge\, and Sparky aren’t sure why they’ve returned to Earth for another posthumous performance\, but a phone call from the heavenly Rosemary Clooney lets them know that they’re needed to put a little harmony into a discordant world. Sprinkled among the Christmas offerings are audience favorites\, like their riotous three-minute-and-eleven-second version of The Ed Sullivan Show – this time\, featuring the Rockettes\, the Chipmunks\, and The Vienna Boys Choir\, as well as a Plaid Caribbean Christmas that puts the “Day-O” in Excelsis! \nThe production is rated G and is fun for the whole family!
URL:https://sammonsartcenter.org/event/forever-plaid-plaid-tidings/2024-12-08/
LOCATION:Lyric Stage Studio Space\, 1170 Quaker Street\, Dallas\, TX\, 75207\, United States
CATEGORIES:Other Events,Partner Events,Theater
ATTACH;FMTTYPE=image/png:https://sammonsartcenter.org/wp-content/uploads/2024/01/lyric_stage.png
ORGANIZER;CN="Lyric Stage":MAILTO:info@lyricstage.org
END:VEVENT
BEGIN:VEVENT
DTSTART;TZID=America/New_York:20241208T140000
DTEND;TZID=America/New_York:20241208T140000
DTSTAMP:20260423T072909
CREATED:20241111T221536Z
LAST-MODIFIED:20241111T221536Z
UID:10000379-1733666400-1733666400@sammonsartcenter.org
SUMMARY:The Nutcracker with Live Orchestra
DESCRIPTION:Experience the magic of Tchaikovsky’s timeless classic –  The Nutcracker with Live Orchestra.  \nThis enchanting ballet tells the story of Clara and her adventures with the Nutcracker Prince as they journey through the Land of Sweets. Featuring vibrant costumes\, stunning choreography\, and a professional cast of dancers\, this production promises to captivate audiences of all ages.  \nWith each note played by the symphony pit filling the theater\, you will immerse yourself in the beauty and wonder of this holiday tradition brought to life by live music. Join us for a night filled with exquisite artistry and pure musical delight with Paul Mejia’s The Nutcracker with Live Orchestra.
URL:https://sammonsartcenter.org/event/the-nutcracker-with-live-orchestra/2024-12-08/
LOCATION:Moody Performance Hall\, 2520 Flora St.\, Dallas\, TX\, 75201\, United States
CATEGORIES:Dance,Orchestra,Other Events,Partner Events,Theater
ATTACH;FMTTYPE=image/png:https://sammonsartcenter.org/wp-content/uploads/2023/03/Avant-Chamber-Ballet.png
END:VEVENT
BEGIN:VEVENT
DTSTART;TZID=America/New_York:20241208T160000
DTEND;TZID=America/New_York:20241208T160000
DTSTAMP:20260423T072909
CREATED:20241118T234711Z
LAST-MODIFIED:20241118T234711Z
UID:10000390-1733673600-1733673600@sammonsartcenter.org
SUMMARY:Sunday Ecstatic Dance w. katiedid
DESCRIPTION:Sunday Ecstatic Dance :: A weekly soulful gathering of intention in motion. \nWhat is Ecstatic Dance?\nEcstatic dance is a free-form movement practice designed to ignite transformation. No choreography\, no steps to follow. We invite you to discover the healing power of the body’s natural wisdom. We hold an intentional space that allows you to fully express yourself in a supportive community container. \nSCHEDULE |\n4p | Warm-Up\n4:30p | Opening Circle + Intention Setting\n4:45p | Ecstatic Dance Journey\n6:00 | Sound Bath + Closing Circle \nLOCATION |\nOwenwood Farm + Neighborhood Space\n1451 John West Rd\, Dallas\, TX 75228 \nADMISSION |\nTickets Available Online + at the door\n$30 :: Drop-In *Admission included in Membership and 5 Dance Passes Memberships for Purchase Here >>> dallasmovementcollective.com/membership \nAbout the Dallas Movement Collective |\nWe are a vibrant and inclusive community organization that hosts ecstatic dance and movement practices that support learning through the innate wisdom of the body. We believe natural expression ignites the possibility for healing\, individually and collectively.\nLearn more at dallasmovementcollective.com \nAgreements |\nWe hold a barefoot\, sober\, and consent based space to support the healing potential of the full freedom of expression.\nLearn more about our agreements here\, dallasmovementcollective.com/ecstatic-dance\nEverything will be explained in Opening Circle! \nContact | info@dallasmovementcollective.com \nFull dance schedule here | dallasmovementcollective.com/schedule \nExchange + Reciprocity |\nRegister in Advance. Save time by registering online prior to the event. \nEveryone Makes a Contribution.\nWe value reciprocity. If you are unable to afford a ticket\, but you want to attend\, reach out to see about exchanging something at equal value as a form of energetic reciprocation. Volunteer opportunities are available at each dance in exchange for entry. These are limited and must be arranged in advance. Please reach out to info@dallasmovementcollective.com to inquire. \nNo refunds.\nMuch like any event where tickets are sold – we’re not able to offer a refund. However\, you are welcome to sell or gift your ticket on our Facebook Community page here >>> facebook.com/groups/3105990169697290 \n“In order to live a well balanced life\, we need community. We need to belong.” – Amber Ryan
URL:https://sammonsartcenter.org/event/sunday-ecstatic-dance-w-katiedid-2/
LOCATION:Owenwood Farm & Neighborhood Space\, 1451 John West Rd\, Dallas\, TX\, 75228\, United States
CATEGORIES:Dance,Other Events,Partner Events
ATTACH;FMTTYPE=image/jpeg:https://sammonsartcenter.org/wp-content/uploads/2024/01/dallas_movement_collective.jpeg
END:VEVENT
BEGIN:VEVENT
DTSTART;TZID=America/New_York:20241208T190000
DTEND;TZID=America/New_York:20241208T190000
DTSTAMP:20260423T072909
CREATED:20241111T225356Z
LAST-MODIFIED:20241111T225356Z
UID:10000382-1733684400-1733684400@sammonsartcenter.org
SUMMARY:A Nordic XMAS
DESCRIPTION:Share a stunning Scandinavian tradition of Carols performed by a cello choir of 12 cellos to candlelight in Chapel of Central Commons in Dallas. \nTexas Cellos\, NORDIC XMAS \nFolksongs & Carols \n“Heyr himna smiður” – Kolbeinn Tumason ( 13th-century Icelandic) \nDowland— In Darkness Let Me Dwell \nSchubert—Erlkönig \nRadiohead—Karma Police \nHandel—Sarabande \nJS Bach—Ich ruf zu Dir Herr Jesu \nBEATLES (Arr. Kaiser-Lindemann) \nHELP \nLET IT BE \nYESTERDAY \nSOMETHING \nHorner—Theme from Titanic \nAutumn Leaves—Jazz Standard (Arr. Johnstone) \nSinging in the Rain—Jazz Standard (Arr. Johnstone) \nCharlie Chaplin—Smile \nDanny Boy (Arr. Judith Gairdner) \nTraditional – The Parting Glass (Arr. Pacey) \nSilent Night -Hans Gruber \nI’m dreaming of a White Christmas- Irving Berlin \n—sing along— \nWe Wish you a Merry Christmas \nDing dong merrily on high \nAway in a manger \nJingle bells \nAuld Lang Syne
URL:https://sammonsartcenter.org/event/a-nordic-xmas/
LOCATION:Central Commons\, 4711 Westside Dr\, Dallas\, TX\, 75209\, United States
CATEGORIES:Classical,Classical Chamber Music,Other Events,Partner Events
ATTACH;FMTTYPE=image/jpeg:https://sammonsartcenter.org/wp-content/uploads/2024/03/Texas-Cellos.jpg
ORGANIZER;CN="Texas Cellos":MAILTO:info@texascellos.org
END:VEVENT
END:VCALENDAR