BEGIN:VCALENDAR
VERSION:2.0
PRODID:-//Sammons Center for the Arts - ECPv6.15.20//NONSGML v1.0//EN
CALSCALE:GREGORIAN
METHOD:PUBLISH
X-ORIGINAL-URL:https://sammonsartcenter.org
X-WR-CALDESC:Events for Sammons Center for the Arts
REFRESH-INTERVAL;VALUE=DURATION:PT1H
X-Robots-Tag:noindex
X-PUBLISHED-TTL:PT1H
BEGIN:VTIMEZONE
TZID:America/New_York
BEGIN:DAYLIGHT
TZOFFSETFROM:-0500
TZOFFSETTO:-0400
TZNAME:EDT
DTSTART:20230312T070000
END:DAYLIGHT
BEGIN:STANDARD
TZOFFSETFROM:-0400
TZOFFSETTO:-0500
TZNAME:EST
DTSTART:20231105T060000
END:STANDARD
BEGIN:DAYLIGHT
TZOFFSETFROM:-0500
TZOFFSETTO:-0400
TZNAME:EDT
DTSTART:20240310T070000
END:DAYLIGHT
BEGIN:STANDARD
TZOFFSETFROM:-0400
TZOFFSETTO:-0500
TZNAME:EST
DTSTART:20241103T060000
END:STANDARD
BEGIN:DAYLIGHT
TZOFFSETFROM:-0500
TZOFFSETTO:-0400
TZNAME:EDT
DTSTART:20250309T070000
END:DAYLIGHT
BEGIN:STANDARD
TZOFFSETFROM:-0400
TZOFFSETTO:-0500
TZNAME:EST
DTSTART:20251102T060000
END:STANDARD
END:VTIMEZONE
BEGIN:VEVENT
DTSTART;TZID=America/New_York:20240920T180000
DTEND;TZID=America/New_York:20240920T180000
DTSTAMP:20260419T175242
CREATED:20240909T214754Z
LAST-MODIFIED:20240909T214829Z
UID:10000291-1726855200-1726855200@sammonsartcenter.org
SUMMARY:Paella y Pasion
DESCRIPTION:Paella y Pasion has become a popular part of the organization’s culturally rich Festival. That is one reason Flamenco Fever now plans to move this crowd-pleasing\, family-friendly event to spring\, presenting it as a stand-alone event to expand the organization’s public visibility\, provide additional flamenco-focused performance opportunities\, and build its audience and base of financial support. \nPaella y Pasion is already a proven way to bridge the divide between traditional flamenco performances in formal venues and economically diverse local audiences who customarily have limited or no access to such venues. Producing Paella y Passion each spring will provide another public event for local individuals and groups to perform for their families\, friends\, community members and existing flamenco aficionados as well as raise general public awareness about the art of flamenco and the role of Flamenco Fever in the Metroplex’s cultural landscape. \nAs Paella y Pasion has as part of the fall festival\, a spring event will provide beginning flamenco dancers\, singers and guitarists the relaxed atmosphere and supportive public outdoor environment they require to let their talents shine\, and more experienced students will get to meet and mentor newcomers to the flamenco arts. \nFor $20 per person\, audience members may also purchase a bowl of paella\, which comes with a flower\, a Spanish-themed polka-dot scarf or a fan – which further immerse them in the flamenco experience. Audience members are encouraged to bring a chair or blanket for comfort and to support the participation of families that span multiple generations.
URL:https://sammonsartcenter.org/event/paella-y-pasion/
LOCATION:Bath House Cultural Center\, 521 E. Lawther Dr\, Dallas\, TX\, 75218\, United States
CATEGORIES:Dance,Other Events,Partner Events
ATTACH;FMTTYPE=image/jpeg:https://sammonsartcenter.org/wp-content/uploads/2024/09/FlamencpFeverLogoonline.jpg
END:VEVENT
BEGIN:VEVENT
DTSTART;TZID=America/New_York:20240920T190000
DTEND;TZID=America/New_York:20240920T190000
DTSTAMP:20260419T175243
CREATED:20240909T213719Z
LAST-MODIFIED:20240909T213719Z
UID:10000290-1726858800-1726858800@sammonsartcenter.org
SUMMARY:Temple Step: Friday Ecstatic Dance
DESCRIPTION:All the way from Australia\, Guest Artist :: Temple Step :: joins us at the Sammons Center for the Arts on September 20th for an evening of multi-genre medicine music in motion. \n‘I serve the unity. I use music to generate connectivity. Diversity + Full-spectrum feeling. The ancient bass\, call of flutes\, flights of prayers\, the voice of Gaia. Designed to uplift and inspire. All that is present in you\, is welcome. It is the art and my honor to take you beyond.’ :: Temple Step \nABOUT TEMPLE STEP ::\nHis meditative soundscapes are described as lush\, awe-inspiring\, breathtaking and body-centric. \nAt the intersection of unified culture\, ancient soul and electronic mastery\, resides the multi-genre fusions of Temple Step – a style and statement of music revered for igniting dance floors\, hearts and transcendental shifts. \nWith over 27 years of experience\, he has brought global culture to life through electrifying live performances\, ecstatic dance\, and immersive sound healing ceremonies. \nTemple Step has collaborated and remixed with artists such as Dr Joe Dispenza\, Liquid Bloom\, Dub FX\, Desert Dwellers\, Deya Dova\, Peruquois\, Nessi Gomes\, Ganga Giri\, Murry Kyle\, Wild Marmalade\, Raio and Darpan. \nSCHEDULE:\n7P | Doors to the Lobby Open for Elixir Lounge\n7:30P | Live Music Warm-Up :: Guest Artist Announced Soon!\n8:15P | Opening Circle and Facilitation by Sarah Sampson\n8:30P | Ecstatic Dance Journey w. Temple Step\n10:30P | Sound Bath + Closing Circle\n11P | Event Closes (you can dance the night away and still wake up early to do awesome stuff in the world!) \nWHAT IS ECSTATIC DANCE:\nWe create a space that is inspiring and uplifting; without talking\, alcohol or the nightclub scene. We encourage participants to utilize the Ecstatic Dance space as an invitation for their magical mysterious nature\, soulful somatic movement\, creative self-expression\, and heart-centered connection to self\, life and others.\nWe hold a nonverbal\, barefoot\, alcohol-free container to keep the journey intentional and lucid. You can dance the night away and still wake up early to do awesome stuff in the world! \nADMISSION |\nTickets Available Online + at the door\n$35 :: tier 1 (first 30 tickets)\n$45 :: tier 2\n$55 :: day of event
URL:https://sammonsartcenter.org/event/temple-step-friday-ecstatic-dance/
LOCATION:Sammons Center for the Arts\, 3630 Harry Hines Blvd.\, Dallas\, TX\, 75219\, United States
CATEGORIES:Dance,Other Events,Partner Events
ATTACH;FMTTYPE=image/jpeg:https://sammonsartcenter.org/wp-content/uploads/2024/01/dallas_movement_collective.jpeg
END:VEVENT
BEGIN:VEVENT
DTSTART;TZID=America/New_York:20240920T200000
DTEND;TZID=America/New_York:20240920T200000
DTSTAMP:20260419T175243
CREATED:20240722T210158Z
LAST-MODIFIED:20240903T212457Z
UID:10000254-1726862400-1726862400@sammonsartcenter.org
SUMMARY:Julius Caesar
DESCRIPTION:Concerned that Julius Caesar poses a threat to democracy\, revolutionaries take the violent decision to murder him. As the world spins out of control\, chaos and superstition lead to civil war. \nNEED TO KNOW: \nFall Entry Times: 6:45pm for season ticket subscribers I  7:00pm for Advanced Sales and Groups I 7:30pm General Admission I  8:00 pm curtain \nRun time for is approximately 1.5 hours and will include a 10-minute intermission. \nPatrons are welcome to bring in chairs\, blankets\, picnic baskets\, food\, beer\, and wine. \nTICKETS AND ADMISSION: \nTickets will be emailed to you upon purchase. Please present your ticket barcode to the Front of House attendants for scanning when you arrive. Tickets may be purchased online up until the beginning of the performance (encouraged) or at the front gate. \nLost your ticket? Click on “resend confirmation” at the top of the page to have a copy of your ticket emailed to you. We encourage you to create an account so you can always access your tickets. \nPARKING: \nPlease purchase parking when you purchase your tickets. A separate parking barcode will be included in your ticket purchase confirmation email. Cash will also be accepted at the parking lot entrance. Parking is $7 per performance or a season parking pass may be purchased for $20. \nGROUP RATES: \nGroups are encouraged! For information on attending with your group of 10 or more\, please contact patron services at groups@shakespearedallas.org. \nREFUNDS: \nShakespeare Dallas has a strict no refund policy. Our tickets are flexible\, so you’re always able to use the ticket you’ve purchased for another night.  In the event of a weather related cancellation of a show\, rain checks are issued so that our patrons may have every opportunity to see another performance. Refunds may only be issued for show cancellations during the last weekend of performances.
URL:https://sammonsartcenter.org/event/julius-caesar/2024-09-20/
LOCATION:Samuell-Grand Amphitheatre\, 1500 Tenison Parkway\, Dallas\, TX\, 75223\, United States
CATEGORIES:Other Events,Partner Events,Theater
ATTACH;FMTTYPE=image/jpeg:https://sammonsartcenter.org/wp-content/uploads/2023/09/shakespeare-dallas.jpeg
ORGANIZER;CN="Shakespeare Dallas":MAILTO:info@shakespearedallas.org
END:VEVENT
END:VCALENDAR