BEGIN:VCALENDAR
VERSION:2.0
PRODID:-//Sammons Center for the Arts - ECPv6.15.20//NONSGML v1.0//EN
CALSCALE:GREGORIAN
METHOD:PUBLISH
X-WR-CALNAME:Sammons Center for the Arts
X-ORIGINAL-URL:https://sammonsartcenter.org
X-WR-CALDESC:Events for Sammons Center for the Arts
REFRESH-INTERVAL;VALUE=DURATION:PT1H
X-Robots-Tag:noindex
X-PUBLISHED-TTL:PT1H
BEGIN:VTIMEZONE
TZID:America/New_York
BEGIN:DAYLIGHT
TZOFFSETFROM:-0500
TZOFFSETTO:-0400
TZNAME:EDT
DTSTART:20230312T070000
END:DAYLIGHT
BEGIN:STANDARD
TZOFFSETFROM:-0400
TZOFFSETTO:-0500
TZNAME:EST
DTSTART:20231105T060000
END:STANDARD
BEGIN:DAYLIGHT
TZOFFSETFROM:-0500
TZOFFSETTO:-0400
TZNAME:EDT
DTSTART:20240310T070000
END:DAYLIGHT
BEGIN:STANDARD
TZOFFSETFROM:-0400
TZOFFSETTO:-0500
TZNAME:EST
DTSTART:20241103T060000
END:STANDARD
BEGIN:DAYLIGHT
TZOFFSETFROM:-0500
TZOFFSETTO:-0400
TZNAME:EDT
DTSTART:20250309T070000
END:DAYLIGHT
BEGIN:STANDARD
TZOFFSETFROM:-0400
TZOFFSETTO:-0500
TZNAME:EST
DTSTART:20251102T060000
END:STANDARD
END:VTIMEZONE
BEGIN:VEVENT
DTSTART;TZID=America/New_York:20240420T130000
DTEND;TZID=America/New_York:20240420T140000
DTSTAMP:20260423T191818
CREATED:20240326T192627Z
LAST-MODIFIED:20240326T192627Z
UID:10000134-1713618000-1713621600@sammonsartcenter.org
SUMMARY:The Impressionist Revolution from Monet to Matisse
DESCRIPTION:Immerse yourself in the Impressionist Revolution with Bombshell Dance Project on a movement tour of From Munch to Kirchner: The Heins Collection of Modern and Expressionist Art inspired by the exhibition. \nFree Admission \nMeet on Level 2 outside Blue elevators \nThe Impressionist Revolution from Monet to Matisse explores the fascinating story of Impressionism from its birth in 1874 to its legacy in the early 20th century. Told almost entirely through the DMA’s exceptional holdings\, this exhibition reveals the rebellious origins of the independent artist collective known as the Impressionists and the revolutionary course they charted for modern art. \nBreaking with tradition in both how and what they painted\, as well as how they showed their work\, the Impressionists redefined what constituted cutting-edge contemporary art. The unique innovations of its core members\, such as Claude Monet\, Edgar Degas\, and Berthe Morisot\, set the foundation against which following generations of avant-garde artists reacted\, from Paul Gauguin and Vincent van Gogh to Piet Mondrian and Henri Matisse. \nCelebrating the 150th anniversary of the first Impressionist exhibition\, The Impressionist Revolution invites you to reconsider these now beloved artists as the scandalous renegades they were\, as well as the considerable impact they had on 20th-century art.
URL:https://sammonsartcenter.org/event/the-impressionist-revolution-from-monet-to-matisse/
LOCATION:Dallas Museum of Art\, 1717 N Harwood St\, Dallas\, TX\, 75201\, United States
CATEGORIES:Dance,Other Events,Partner Events
ATTACH;FMTTYPE=image/png:https://sammonsartcenter.org/wp-content/uploads/2024/03/bombshell-dance-project-logo.png
ORGANIZER;CN="Bombshell Dance Project":MAILTO:bombshelldanceproject@gmail.com
END:VEVENT
BEGIN:VEVENT
DTSTART;TZID=America/New_York:20240420T150000
DTEND;TZID=America/New_York:20240420T163000
DTSTAMP:20260423T191818
CREATED:20240105T213213Z
LAST-MODIFIED:20240111T165750Z
UID:10000045-1713625200-1713630600@sammonsartcenter.org
SUMMARY:"Among the Stars" - 6th Hallam Family Concert
DESCRIPTION:
URL:https://sammonsartcenter.org/event/among-the-stars-6th-hallam-family-concert/
LOCATION:Central Commons\, 4711 Westside Dr\, Dallas\, TX\, 75209\, United States
CATEGORIES:Classical Chamber Music,Other Events
ATTACH;FMTTYPE=image/png:https://sammonsartcenter.org/wp-content/uploads/2023/03/logo6.png
ORGANIZER;CN="Fine Arts Chamber Players":MAILTO:music@fineartschamberplayers.org
END:VEVENT
BEGIN:VEVENT
DTSTART;TZID=America/New_York:20240420T180000
DTEND;TZID=America/New_York:20240420T180000
DTSTAMP:20260423T191818
CREATED:20240326T183807Z
LAST-MODIFIED:20240326T183807Z
UID:10000131-1713636000-1713636000@sammonsartcenter.org
SUMMARY:Swing on a String
DESCRIPTION:WORKSHOPS ARE BACK!!! \nWeekly workshops run from 6-8pm in the main ballroom. Intermediate and Advanced Workshops have not yet resumed\, but hopefully will return soon. Topics of these workshops and their instructors change from month to month. For more information\, please click on a particular week’s event page. \nBeginner 6-Count Basic (Newcomer) Lessons run from 8-9pm in the main ballroom. The content of this lesson is the same every single week\, and we recommend attending several of these lessons to get the basics down before attending additional workshops\, etc. \nOpen dancing runs from 9pm-11:30pm in the main ballroom. There is a short break in the music around 10:15pm for announcements\, birthday dances\, and the shim sham. instructors\, and are subject to their discretion.
URL:https://sammonsartcenter.org/event/swing-on-a-string-3/2024-04-20/
LOCATION:Sammons Center for the Arts\, 3630 Harry Hines Blvd.\, Dallas\, TX\, 75219\, United States
CATEGORIES:Dance,Other Events,Partner Events
ATTACH;FMTTYPE=image/png:https://sammonsartcenter.org/wp-content/uploads/2024/01/DSDS-Logo-Teal2.png
ORGANIZER;CN="Dallas Swing Dance Society":MAILTO:dsds-board-of-directors@dsds.org
END:VEVENT
BEGIN:VEVENT
DTSTART;TZID=America/New_York:20240420T193000
DTEND;TZID=America/New_York:20240420T193000
DTSTAMP:20260423T191818
CREATED:20240307T231737Z
LAST-MODIFIED:20240307T231737Z
UID:10000122-1713641400-1713641400@sammonsartcenter.org
SUMMARY:Diosa
DESCRIPTION:WORLD PREMIERE\nCreated in collaboration with Manifesto Poetico: International Laboratory of Theatre Research and Productions \nFeaturing live music and physical theatre\, Diosa explores a world that reflects our ancient feminine archetype\, a return to co-existence with Mother Nature\, and a future inspired by our collective Dream.
URL:https://sammonsartcenter.org/event/diosa/2024-04-20/
LOCATION:Latino Cultural Center\, 2600 Live Oak St.\, Dallas\, TX\, 75204\, United States
CATEGORIES:Other Events,Partner Events,Theater
ATTACH;FMTTYPE=image/jpeg:https://sammonsartcenter.org/wp-content/uploads/2023/03/Cara-Mia-logo-e1655922378746.jpg
ORGANIZER;CN="Cara M%C3%ADa Theatre":MAILTO:info@caramiatheatre.org
END:VEVENT
END:VCALENDAR